BEGIN:VCALENDAR
VERSION:2.0
PRODID:-//wp-events-plugin.com//7.2.3.1//EN
TZID:Australia/Sydney
X-WR-TIMEZONE:Australia/Sydney
BEGIN:VEVENT
UID:465@unswoc.org
DTSTART:20140322T230000Z
DTEND:20140323T040000Z
DTSTAMP:20140318T191623Z
URL:https://unswoc.org/wordpress/events/boree-log-sunday-ruined-castle-bus
 h-walk/
SUMMARY:Boree Log - Beginner Ruined Castle Bush-walk (Sunday)
DESCRIPTION:Hi Everyone\,\n\nI am planning a bushwalking trip from The Gold
 en Stairs to the Ruined Castle on the Sunday of Boree Log.\n\nThe Ruined C
 astle is an outcrop of large rocky boulders that lies in the middle of the
  ridge that runs from Castle Head\, off Narrow Neck Peninsula\, to Mt Soli
 tary. It is a local high point\, jutting out above the surrounding bush\, 
 and has 360 degree views of the area. The walk from the Golden Stairs to t
 he Ruined Castle is one of the best easy day walks in the Blue Mountains.\
 n\nInfo on this Bush walk\n\nTotal Estimated Time :    4-5 Hours\n\nTota
 l Distance :              8 Km\n\nFitness :                
         Easy\n\nSkill :                             Easy
 \n\nAscent :                         220M\n\nThis walk will be
  relatively easy and comfortable\, mainly for club members who are new to 
 this outdoor experience. The pace will be kept at a reasonable speed so th
 at all can enjoy the beautiful view of the ruined castle.\n\nTransport\n\n
 	The Golden Stairs is roughly 45 minutes to 1 hour drive away from the Mt 
 Wilson campsite.\n	Please update me on Facebook if you have a car and can
  drive on Sunday morning as we will be organizing car pools. If you do no
 t have transport\, please be prepared to chip in for the car ride.\n	I do 
 not have a car\, so we will need at least 2 members with cars before this
  trip can commence. *\n	Anyone going straight from Sydney please update me
  as well. Will set a place to meet so no one gets lost.\n\nThings to bring
 \n\nWalking shoes\, Water (as much as you need but at least 2 liters)\, Lu
 nch\, Sunscreen / Hat\, and  Backpack.\n\nThe Plan\n\n	We'll gather at th
 e camp ground around 8.30am on Sunday morning to make sure everyone is rea
 dy and prepared.\n	Plan to leave the camp by 9am.\n	Plans may change depen
 ding on the weather.\n	We will spilt ourselves into the cars and set off t
 o the Golden Stairs together.\n	Anyone driving  straight down from Sydney
  please be at the meeting point by 10am so we can start as soon as the mai
 n body arrives.\n	Hope to start the walk at 10.30am the latest.\n\n*Please
  take note that this trip will not commence if we do not have sufficient c
 ars! So join us!\n\nHopefully everything goes smoothly and we'll all have 
 a wonderful experience at the ruined castle.\n\nHope to see you there.\n\n
 Danny How\n\nFor more information : http://bushwalkingnsw.com/walk.php?ni
 d=236\n\n&nbsp\;\n\n&nbsp\;
CATEGORIES:Boree Log
LOCATION:Jamison Valley\, Golden Stairs \, Katoomba\, Australia
GEO:-33.736233;150.282913
X-APPLE-STRUCTURED-LOCATION;VALUE=URI;X-ADDRESS=Golden Stairs \, Katoomba\,
  Australia;X-APPLE-RADIUS=100;X-TITLE=Jamison Valley:geo:-33.736233,150.28
 2913
END:VEVENT
END:VCALENDAR