BEGIN:VCALENDAR
VERSION:2.0
PRODID:-//wp-events-plugin.com//7.2.3.1//EN
TZID:Australia/Sydney
X-WR-TIMEZONE:Australia/Sydney
BEGIN:VEVENT
UID:2378@unswoc.org
DTSTART;VALUE=DATE:20190324
DTEND;VALUE=DATE:20190325
DTSTAMP:20190312T221806Z
URL:https://unswoc.org/wordpress/events/boree-log-sunday-liloing/
SUMMARY:Boree Log Sunday Canyoning - Wollangambe 2 - Electric Wollangambelo
 o
DESCRIPTION:Hello  friends\,\n\nAre you likely to drink too much on Boree 
 Log's Saturday night?\n\nIs your idea of exercise floating down a river?\n
 \nJust signed up to the club for sweet Instagram photos?\n\nIf you answere
 d yes to any of these questions then have I got the trip for you.\n\nMe an
 d Hayden's plan is to walk down to the Wollangambe River\, which is at the
  bottom of the campsite we'll be staying at\, float/ walk down it on lilos
  and then walk back to the campsite. This does still require some fitness 
 to walk in and out to the river and to walk in the river\, but in the sche
 me of club trips\, it'll be pretty short and pretty chill.\n\nThe actual c
 anyon is pretty gorgeous. (pun intended)\n\n********    YOU ABSOLUTELY M
 UST BE ABLE TO SWIM  ***********\n\nSome of the gear is pretty mandatory 
 so pay attention:\n\n 	Wetsuit*\n 	Lunch + snack(s)\n 	1-2L of water (comp
 lete with bottle)\n 	Dry bag to hold stuff that needs to stay dry\, like c
 amera\, lunch and change of clothes (these can be bought for like $10 from
  K-mart). You'll want one with 10-20L capacity\n 	Undies to wear under wet
 suit\n 	Change of socks (ideally one pair woollen)\n 	Board shorts or othe
 r shorts to protect the butt of the wetsuit\n 	Small backpack to hold ever
 ything (it will get wet)\n 	Waterproof camera\n 	Helmet*\n\n* if it has an
  asterisk that means you should be able to borrow these items of gear fro
 m the club. If you don't have anything on the list - email me out dionruss
 ell94@gmail.com and I'll try to sort something out for you.\n\n&nbsp\;\n\n
 Canyon believe it's only a week away!\n\n--Dion\n\nPS. You must be approve
 d for Boree Log to attend this trip!
ATTACH;FMTTYPE=image/jpeg:https://unswoc.org/wordpress/wp-content/uploads/
 2019/03/DSC_6250.jpg
CATEGORIES:Canyoning
END:VEVENT
END:VCALENDAR