BEGIN:VCALENDAR
VERSION:2.0
PRODID:-//wp-events-plugin.com//7.2.3.1//EN
TZID:Australia/Sydney
X-WR-TIMEZONE:Australia/Sydney
BEGIN:VEVENT
UID:2227@unswoc.org
DTSTART:20180317T220000Z
DTEND:20180318T070000Z
DTSTAMP:20180308T054747Z
URL:https://unswoc.org/wordpress/events/boree-log-sunday-intermediate-cany
 oning-fortress-canyon/
SUMMARY:Boree Log Sunday: Beginners Canyoning - Fortress Canyon
DESCRIPTION:[caption id="attachment_8984" align="alignnone" width="960"] Bo
 ree Log 2014[/caption]\n\n&nbsp\;\n\nWhoohoo Fortress Canyon with myself a
 nd Ben Wilkinson! This is an easy-medium canyon most loved for its ending 
 which is the lunch spot at the top of a waterfall overlooking the beautifu
 l Blue Mountains. You will need to have experience abseiling and have basi
 c swimming skills to do this canyon. The canyon should take about 4 hours 
 car-to-car and is on the way home tfrom the Mt Wilson campground.\n\nWhat 
 you need to bring:\n\n 	Swimmers\n 	Wetsuit (which can be borrowed from th
 e club\, but bring your own to avoid disappointment)\n 	Helmet (which can 
 be borrowed from the club)\n 	Harness\, belay device\, safety sling and lo
 cking biner (which can be borrowed from the club)\n 	Old shorts to go over
  your wetsuit\n 	Shoes that can get wet and that are preferably a bit grip
 py - old joggers or cheap sneakers from Kmart will do the job\n 	Towel\n 	
 Dry change of clothes for after the canyon\n 	Dry bag (at least 15L) which
  can be purchased from MacPac\n 	Food consisting of snacks and lunch\n 	At
  least 1.5L of water\n 	Sunscreen\n 	Backpack which can get wet\n 	Thongs/
 sandals for after the canyon\n\nDrivers will be preferenced so please indi
 cate whether you will have a car when signing up\n\nHit me up on facebook 
 if you have any questions
CATEGORIES:Boree Log,Canyoning
END:VEVENT
END:VCALENDAR