BEGIN:VCALENDAR
VERSION:2.0
PRODID:-//wp-events-plugin.com//7.2.3.1//EN
TZID:Australia/Sydney
X-WR-TIMEZONE:Australia/Sydney
BEGIN:VEVENT
UID:2237@unswoc.org
DTSTART:20180317T220000Z
DTEND:20180318T060000Z
DTSTAMP:20180315T042029Z
URL:https://unswoc.org/wordpress/events/boree-log-sunday-intermediate-cany
 on-waterfall-moss/
SUMMARY:BOREE LOG Sunday Intermediate Canyon - Waterfall of Moss
DESCRIPTION:Keen for a post-partying adventure on the Sunday of Boree Log? 
 More interested in lots of overhung abseils than frequent swims?\n\nJoin u
 s for a trip down Waterfall of Moss canyon.\n\nWhat do I have to bring?\n\
 nThermals\n\nDry bag (to keep your food and dry clothing)\n\nWoolen socks 
 (no cotton\, please)\n\nLunch and snacks\n\nPersonal medications\n\nWater 
 (at least 1L)\n\nClosed shoes\, such as joggers or volleys\, that you don
 ’t mind getting wet and dirty\n\nA day backpack to carry everything\n\nH
 ead torch (you can buy these from outdoors/camping equipment stores like A
 naconda\, Mountain Design\, etc)\n\nShorts or boardshorts that are comfort
 able to walk in and can get wet and dirty\n\nWhat can I borrow from the cl
 ub? \n\nAny of these items below\, we can lend you but if you have your ow
 n\, please do bring them:\n\nHelmet\nHarness\nSafety sling\nATC\nLocking c
 arabiner\nPrussik\n\nPlease let us know any medical issues\, allergies or 
 injuries and also your canyoning experience.
CATEGORIES:Boree Log,Canyoning
END:VEVENT
END:VCALENDAR