BEGIN:VCALENDAR
VERSION:2.0
PRODID:-//wp-events-plugin.com//7.2.3.1//EN
TZID:Australia/Sydney
X-WR-TIMEZONE:Australia/Sydney
BEGIN:VEVENT
UID:2114@unswoc.org
DTSTART;VALUE=DATE:20170402
DTEND;VALUE=DATE:20170403
DTSTAMP:20170328T112215Z
URL:https://unswoc.org/wordpress/events/boree-log-sunday-intermediate-cany
 on-water-dragon/
SUMMARY:BOREE LOG SUNDAY - Intermediate Canyon - Water Dragon
DESCRIPTION:Water dragon (or Kelvinator canyon) is a very impressive canyon
  with lots of beautiful\, dark restrictions! There are a couple of down cl
 imbs and interesting abseil points so I'm restricting this canyon to peopl
 e who are comfortable with abseiling. If you're not sure if this trip is s
 uitable for you send me a FB message or see me at The Ledge on Thursday.\n
 \nWHAT TO BRING:\n\n	SHOES – note that these shoes are going to get wet 
 and dirty. I recommend buying a pair of cheap volleys or other light shoes
 . I DON’T recommend hiking shoes.\n	DRY BAG – Anything you take into t
 he canyon is probably going to get wet. If you want snacks or dry clothes 
 I suggest investing in a dry bag. You can get one for $10 or something fro
 m any outdoors store. FURTHERMORE\, there is a long swim along the wollang
 ambe to the exit track\, so dry bags will help you float and take the stre
 ss off swimming.\n	SNACKS + LUNCH – Food is so important in canyons. It 
 keeps your energy levels up and also can keep you warm! I recommend muesli
  bars\, nuts\, fruit\, chocolate and whatever lunch that’s going to keep
  you happy and full!\n	CLOTHES – Warm socks and a pair of daggy shorts a
 re essential\, again these will get wet and dirty. The swim at the end of 
 the canyon will potentially be quite cold. If you feel the cold I recommen
 d wearing thermals under your wetsuit or bringing a beanie.\n	HEAD TORCH\n
 	BAG - To put everything above in! The lighter the bag the better. It will
  get wet and heavy\n\nWHAT WE’LL PROVIDE (if you own any of these items 
 please bring them):\n\n	Harness\n	Belay device (probably an ATC)\n	Slings\
 n	Wetsuit\n	Ropes\n	Helmets\n	Banter!\n\nPLAN\n\n	Walking from Mt Wilson a
 t 8 AM (or whenever we finish cleaning the campsite)\n	Returning around 4P
 M\n
CATEGORIES:Canyoning
END:VEVENT
END:VCALENDAR