BEGIN:VCALENDAR
VERSION:2.0
PRODID:-//wp-events-plugin.com//7.2.3.1//EN
TZID:Australia/Sydney
X-WR-TIMEZONE:Australia/Sydney
BEGIN:VEVENT
UID:2089@unswoc.org
DTSTART;VALUE=DATE:20161030
DTEND;VALUE=DATE:20161031
DTSTAMP:20161024T065632Z
URL:https://unswoc.org/wordpress/events/boree-log-sunday-hiking-trip-white
 -track/
SUMMARY:BOREE LOG - Sunday hiking trip - The white track
DESCRIPTION:Hey all!\n\nThis is for anyone that wants a slightly slower mor
 ning on Sunday and to spend some time relaxing by Shoalhaven. It is a bush
 walk that leaves from Bungonia campsite and goes over Ayre and to the Shoa
 lhaven river. I aim to return to the campsite at 4pm so we can all start g
 etting back towards Sydney. \nIt is also happening on the Saturday of Bore
 e\, so check the details here.\nParticularly note the 'what to bring' and 
 make sure you are signed up the main Boree Log event before joining this o
 ne.\nSee you there\nLiam
CATEGORIES:Bushwalking
END:VEVENT
END:VCALENDAR