BEGIN:VCALENDAR
VERSION:2.0
PRODID:-//wp-events-plugin.com//7.2.3.1//EN
TZID:Australia/Sydney
X-WR-TIMEZONE:Australia/Sydney
BEGIN:VEVENT
UID:2238@unswoc.org
DTSTART;VALUE=DATE:20180318
DTEND;VALUE=DATE:20180319
DTSTAMP:20180313T062116Z
URL:https://unswoc.org/wordpress/events/boree-log-sunday-hike-mount-banks-
 summit-walk/
SUMMARY:BOREE LOG Sunday - HIKE - Mount Banks Summit Walk
DESCRIPTION:Hey everyone :)\n\nSam May and I are running a hiking trip on t
 he Sunday of BL. Views are great\, and it is beginner friendly :)\n\nAlso\
 , if we're very lucky Sam might go through some basic navigational stuff (
 though you'll have to fight with me for teaching time because I want to le
 arn from him too :P)\n\nCheck it out here: https://www.nationalparks.nsw.
 gov.au/things-to-do/walking-tracks/mount-banks-summit-walk\n\nwe do need a
  person with a car though\, so make sure you indicate if you have a car an
 d can offer lifts\n\nAlso\, hot tip for all Sunday trips in general: pack 
 light in case you need to take the train/bus home (not everyone lives at u
 ni)
CATEGORIES:Hectic Hiking
END:VEVENT
END:VCALENDAR