BEGIN:VCALENDAR
VERSION:2.0
PRODID:-//wp-events-plugin.com//7.2.3.1//EN
TZID:Australia/Sydney
X-WR-TIMEZONE:Australia/Sydney
BEGIN:VEVENT
UID:460@unswoc.org
DTSTART:20140322T220000Z
DTEND:20140323T040000Z
DTSTAMP:20140313T170333Z
URL:https://unswoc.org/wordpress/events/boree-log-sunday-climbing/
SUMMARY:Boree Log - Sunday Climbing
DESCRIPTION:The main climbing trip on Sunday will go to the Zig Zag area ne
 ar the Engineer's Cascade in Mt Victoria (NOT to be confused with the Zig 
 Zag Railway near Lithgow!)\n\nThis great and underrated cliffline has a hu
 ge variety of more traditional Blue Mountains rock climbing in all styles 
 and all difficulties!\n\n(While there are several great beginner routes he
 re which we will be climbing\, be aware Zig Zag is a bigger and more expos
 ed cliff\, and this trip will be a little more adventurous than the friend
 ly Dam Cliffs area we will visit on Saturday)\n\nSam
CATEGORIES:Boree Log,Outdoor Climbing
LOCATION:Zig Zag Crag\, 83 Kanimbla Valley Road\, Mount Victoria\, NSW\, Au
 stralia
GEO:-33.596851;150.249985
X-APPLE-STRUCTURED-LOCATION;VALUE=URI;X-ADDRESS=83 Kanimbla Valley Road\, M
 ount Victoria\, NSW\, Australia;X-APPLE-RADIUS=100;X-TITLE=Zig Zag Crag:ge
 o:-33.596851,150.249985
END:VEVENT
END:VCALENDAR