BEGIN:VCALENDAR
VERSION:2.0
PRODID:-//wp-events-plugin.com//7.2.3.1//EN
TZID:Australia/Sydney
X-WR-TIMEZONE:Australia/Sydney
BEGIN:VEVENT
UID:311@unswoc.org
DTSTART:20131012T230000Z
DTEND:20131013T050000Z
DTSTAMP:20131001T155954Z
URL:https://unswoc.org/wordpress/events/boree-log-sunday-climbing-trip/
SUMMARY:Boree Log - Sunday Climbing Trip
DESCRIPTION:On Sunday I will be taking a beginners climbing trip to the Sof
 t Parade sector at Mt York. This will also be a great spot to practice spo
 rt and trad leading on an easy\, sheltered and well equipped cliff.\n\nMt 
 York has dozens of single pitch routes of all styles and aspects\, and so 
 intermediate and advanced climbers can also access some great climbs from 
 the same carpark (Bardens Lookout).\n\n&nbsp\;\n\n&nbsp\;
CATEGORIES:Boree Log
LOCATION:\, \, 
X-APPLE-STRUCTURED-LOCATION;VALUE=URI;X-ADDRESS=\, ;X-APPLE-RADIUS=100;X-TI
 TLE=:geo:0,0
END:VEVENT
END:VCALENDAR