BEGIN:VCALENDAR
VERSION:2.0
PRODID:-//wp-events-plugin.com//7.2.3.1//EN
TZID:Australia/Sydney
X-WR-TIMEZONE:Australia/Sydney
BEGIN:VEVENT
UID:1987@unswoc.org
DTSTART;VALUE=DATE:20160320
DTEND;VALUE=DATE:20160321
DTSTAMP:20160318T090042Z
URL:https://unswoc.org/wordpress/events/boree-log-sunday-climbing-mt-york/
SUMMARY:Boree Log - Sunday Climbing Mt York
DESCRIPTION:This is a Sunday beginner and intermediate climbing trip to Mt 
 York an area with lots of awesome easy climbs but a lot of harder sport to
 o. Anyone self sufficient is welcome to come and climb/give a hand and a f
 ew of us will be setting up top ropes for the beginners. A description of 
 the are/climbs can be found here and here (for the specific wall). Any qu
 estions don't hesitate to ask.\n\nWHAT TO BRING:\n\n(Gear the can be borro
 wed from the club on Sunday morning)\n\n	Helmet\n	Harness\n	Rock climbing 
 shoes (Bring your own if you have them)\, otherwise grippy sneakers will d
 o\n	Locking biner and belay device e.g. an ATC\n\n(Gear/stuff that you nee
 d to bring yourself)\n\n	Backpack\n	Food - enough for lunch and snacks\n	W
 ater - at least 1.5L\n	Sunscreen\n	Chalk and chalk bag\n	Headtorch (option
 al but recommended)\n\nSee you there!
ATTACH;FMTTYPE=image/jpeg:https://unswoc.org/wordpress/wp-content/uploads/
 2016/03/e601e554d94b21ae190b9bbacf1f35d310a4f9d0.jpg
END:VEVENT
END:VCALENDAR