BEGIN:VCALENDAR
VERSION:2.0
PRODID:-//wp-events-plugin.com//7.2.3.1//EN
TZID:Australia/Sydney
X-WR-TIMEZONE:Australia/Sydney
BEGIN:VEVENT
UID:1981@unswoc.org
DTSTART;VALUE=DATE:20160320
DTEND;VALUE=DATE:20160321
DTSTAMP:20160315T035744Z
URL:https://unswoc.org/wordpress/events/boree-log-sunday-climbing-medlow-b
 ath/
SUMMARY:Boree Log Sunday: Climbing at Medlow Bath
DESCRIPTION:Come bathe in the glory of Medlow Bath at this beginner and int
 ermediate climbing trip on Sunday at Boree Log. Brendan\, Abi\, Jess\, Tom
  and myself will be setting up top ropes for beginners and anyone who want
 s to lead with their own gear is most welcome to come along as well. A des
 cription of the climbs can be found here. \nWHAT TO BRING:\n\n(Gear the ca
 n be borrowed from the club on Sunday morning)\n\n	Helmet\n	Harness\n	Rock
  climbing shoes\, otherwise grippy sneakers will do\n	Locking biner and be
 lay device e.g. an ATC\n\n(Gear/stuff that you need to bring yourself)\n\n
 	Backpack\n	Food - enough for lunch and snacks\n	Water - at least 1.5L\n	S
 unscreen\n	Chalk and chalk bag\n	Headtorch (optional)\n	Sustenance in the 
 form of sugar for your trip leaders\n\nFeel free to shoot us a message if 
 you have any questions.\n\nSee you there!\n\n&nbsp\;
CATEGORIES:Outdoor Climbing
END:VEVENT
END:VCALENDAR