BEGIN:VCALENDAR
VERSION:2.0
PRODID:-//wp-events-plugin.com//7.2.3.1//EN
TZID:Australia/Sydney
X-WR-TIMEZONE:Australia/Sydney
BEGIN:VEVENT
UID:2228@unswoc.org
DTSTART;VALUE=DATE:20180318
DTEND;VALUE=DATE:20180319
DTSTAMP:20180308T131840Z
URL:https://unswoc.org/wordpress/events/boree-log-sunday-climb-hike/
SUMMARY:Boree log Sunday - climb/hike.
DESCRIPTION:Hi Everyone who is signed up for Boree log!\n\n\n\n—you must 
 be approved for Boree log to attend this trip—\n\nJoin us for some Sunda
 y climbing at Bell SuperCrag ( beginner/ intermediate) which involves a ni
 ce 30min walk in with stunning vistas of the blueys.\n\nWhat you need:\n\n
  	harness*\n 	helmet*\n 	Climbing shoes*\n 	atc + biner*\n 	lunch and snac
 ks!\n 	at least 2l of water\n 	adventure spirit and heaps of good mood!\n\
 n- *CAN BORROW FROM CLUB ON SUNDAY MORNING ( day of trip)\n\nPlease commen
 t in the comments section\n\n 	1. if you have a car - it makes sense to go
  on the same trip as the person who is driving you home btw.\n2. if you ow
 n your own climbing shoes or any other gear\n3. if you have been outdoor o
 r indoor climbing before :)\n4. if you can lead and already have a belay p
 artner.\n&nbsp\;\n\nGet keen and see ya there!\n\nCheers\,\n\nManon and Ch
 ris
CATEGORIES:Boree Log,Outdoor Climbing
END:VEVENT
END:VCALENDAR