BEGIN:VCALENDAR
VERSION:2.0
PRODID:-//wp-events-plugin.com//7.2.3.1//EN
TZID:Australia/Sydney
X-WR-TIMEZONE:Australia/Sydney
BEGIN:VEVENT
UID:2084@unswoc.org
DTSTART;VALUE=DATE:20161030
DTEND;VALUE=DATE:20161031
DTSTAMP:20161022T041958Z
URL:https://unswoc.org/wordpress/events/boree-log-sunday-caving-trip-intem
 ediate-advanced/
SUMMARY:Boree Log - SUNDAY CAVING TRIP - Intermediate to Advanced
DESCRIPTION:\n\nHey all\,\n\nVicky and I will be running a more advanced ca
 ve (which I will decide on later\, but it will be awesome). As this cave w
 ill 100% involve some abseiling and prussiking (whooooooo!)\, you will nee
 d to have both a) some caving experience (to convince me you will not have
  a panic attack after we rap into a cave) and b) some ropework experience 
 (so that I don't have to teach you how to abseil/prussik in a cave). I may
  make exceptions on a case-by-case basis\, so message me if you are want t
 o come but don't fit this criteria (Ewa Marzena on FB).\n\nYou will need: 
 normal caving gear (e.g.\, helmet)\, as well as vertical caving gear (e.g.
 \, ascenders)\, and cave snacks. I will probably write a more comprehensiv
 e list later on.\n\nNote: Please make sure you are signed up to the main B
 oree Log Event before signing up to this event.\n\nSee ya'll there!\n\nEwa
CATEGORIES:Caving
END:VEVENT
END:VCALENDAR