BEGIN:VCALENDAR
VERSION:2.0
PRODID:-//wp-events-plugin.com//7.2.3.1//EN
TZID:Australia/Sydney
X-WR-TIMEZONE:Australia/Sydney
BEGIN:VEVENT
UID:2232@unswoc.org
DTSTART:20180317T220000Z
DTEND:20180318T060000Z
DTSTAMP:20180309T125153Z
URL:https://unswoc.org/wordpress/events/boree-log-sunday-beginners-interme
 diate-rock-climbing-dam-cliffs/
SUMMARY:BOREE LOG: SUNDAY BEGINNERS-INTERMEDIATE ROCK CLIMBING AT DAM CLIFF
 S
DESCRIPTION:&lt\;&lt\;&lt\;Please Note: You must be approved for Boree log 
 to attend this trip&gt\;&gt\;&gt\;\n\nEamonn and I will be running a chill
 ed day of rock climbing and deep water soloing (climbing without ropes abo
 ve deep water). For people who are new to rock climbing or have never cli
 mbed outdoors before\, this is the perfect trip for you. We’ll set up ro
 pes just past the dam\, teach you how to tie into a rope and safely belay 
 your fellow climbers\, and answer any questions you may have about outdoor
  rock climbing. The grade range of the area is about 11 – 25 with most r
 outes being in the low to high teens.\n\nAs with all Boree Log trips\, peo
 ple with cars will be preferenced for sign-ups. When you are signing up th
 ere should be an option to indicate your ownership of an available and fun
 ctional motor vehicle. Please tick the box if you are one of these people.
 \n\nWhat YOU need to bring:\n\n 	Lunch and water for the day\n 	Sunscreen\
 n 	Swimmers and towel\n 	Any personal rock climbing gear that you own i.e.
  harness\, rock climbing shoes\, helmet\, chalk\, belay devices\, and lock
 ing carabiners\n 	Backpack for all of the above\n\nWhat WE will bring and 
 what may need to be shared:\n\n 	Climbing shoes\n 	Helmets\n 	Belay device
 s and locking carabiner\n 	Harnesses\n 	Climbing Ropes\n\nStill got questi
 ons? Hit up me up on facebook.\n\n&nbsp\;
CATEGORIES:Boree Log,Outdoor Climbing
END:VEVENT
END:VCALENDAR