BEGIN:VCALENDAR
VERSION:2.0
PRODID:-//wp-events-plugin.com//7.2.3.1//EN
TZID:Australia/Sydney
X-WR-TIMEZONE:Australia/Sydney
BEGIN:VEVENT
UID:2087@unswoc.org
DTSTART;VALUE=DATE:20161030
DTEND;VALUE=DATE:20161031
DTSTAMP:20161024T023758Z
URL:https://unswoc.org/wordpress/events/boree-log-sunday-beginners-canyon-
 macquarie-pass/
SUMMARY:BOREE LOG Sunday - Beginners canyon (Macquarie Pass)
DESCRIPTION:Blair and I are leading a beginners canyon on the sunday or bor
 ee log\n\nThe lower half of Macquarie Pass canyon has a little bit of ever
 ything - a few abseils\, a few water jumps and it's quite pretty! :)\n\nTh
 ere will be quite a lot of driving - 1.5 hours from Bungonia on sunday mor
 ning and then about 1 hr 45 mins back to sydney after. We need to do a car
  shuffle so will preference people with a car.\n\nWe'll aim to leave Bungo
 nia campground by 8:30am\n\nPlease PM me with\n\n	your experience level\n	
 whether you have a car\n	what gear you already have and what gear you need
  to get/find/buy - let me know - Please don't tell me on the day 'oops i d
 idn't think that was a necessity'\n\nWhat to bring:\n\n	can be borrowed fr
 om the club:\n\n	harness\n	helmet\n	belay device and locking biner\n	safet
 y and locking biner\n	self-belay prussik\n\n\n	Probably can be borrowed fr
 om the club: wetsuit (the club has some wetsuits but there are no guarante
 es they will be the right size. if you can borrow one or buy your own that
  would be recommended!)\n	Source yourself:\n\n	Headtorch (can be bought fo
 r less than $15 at anaconda and will come in useful in the future if you p
 lan to keep doing outdoorsy stuff)\n	thermals to wear under wetsuit and be
 anie\n	DRY thermals in DRYBAG (or other warm clothes - e.g. fleece jacket)
  - no cotton!\n	closed shoes and woollen socks (no cotton)\n	rainjacket/wi
 ndbreaker\n\n\n\nPlease let me know if you have questions :)\n\nBtw\, you 
 need to have signed up and paid for the main boree log event before signin
 g up to this
CATEGORIES:Canyoning
END:VEVENT
END:VCALENDAR