BEGIN:VCALENDAR
VERSION:2.0
PRODID:-//wp-events-plugin.com//7.2.3.1//EN
TZID:Australia/Sydney
X-WR-TIMEZONE:Australia/Sydney
BEGIN:VEVENT
UID:463@unswoc.org
DTSTART:20140322T210000Z
DTEND:20140323T040000Z
DTSTAMP:20140316T233540Z
URL:https://unswoc.org/wordpress/events/boree-log-sunday-beginner-canyon-s
 erendipity/
SUMMARY:Boree Log Sunday Beginner Canyon - Serendipity
DESCRIPTION:Yet another beginner canyoning trip! If you've missed out so fa
 r\, now is your chance \;)\n\nCheck out this website for details of the ca
 nyon:\n\nhttp://ozultimate.com/canyoning/track_notes/why_dont_we_do_it_in_
 the_road.htm\n\nWe can walk there from the campsite\, so no need to worry 
 about car transport. You will need to abseil so ideally try and practice t
 his before you come. You'll also need to be reasonably fit and able to wal
 k on uneven\, slippery terrain.\n\nREQUIRED equipment:\n\n- Closed-toe sho
 es\, ideally dunlop volleys but runners will do (no crocs or thongs!)\n\n-
  A day pack to carry your stuff (and if it’s big enough to also carry a 
 rope then that’s a plus!)\n\n- Water bottles (at least 2 1L bottles)\n\n
 - Lunch and snacks – it shouldn't be a long day\, but you never do know 
 when you're canyoning!\n\n- Something warm\, ideally thermals (top and bot
 tom)\, beanie and a rain jacket\n\n- Board shorts or similar to wear over 
 your wetsuit and protect it from scrapes\n\n- A torch and spare batteries\
 , ideally a headtorch\n\n- Something to keep your warm clothes\, lunch and
  headtorch dry in your bag. Ideally a dry bag\, or else just bring lots of
  plastic garbage bags\n\nIf you have them\, please also bring a wetsuit\, 
 harness\, helmet\, descent device such as an ATC\, carabiner and sling or 
 accessory cord for safety.\n\nAny questions\, email peddey@gmail.com or gi
 ve me a call 0411 467 041 :)\n\n&nbsp\;
CATEGORIES:Boree Log,Canyoning
END:VEVENT
END:VCALENDAR