BEGIN:VCALENDAR
VERSION:2.0
PRODID:-//wp-events-plugin.com//7.2.3.1//EN
TZID:Australia/Sydney
X-WR-TIMEZONE:Australia/Sydney
BEGIN:VEVENT
UID:2330@unswoc.org
DTSTART:20181123T060000Z
DTEND:20181125T100000Z
DTSTAMP:20181115T232103Z
URL:https://unswoc.org/wordpress/events/boree-log-spirit-animal-23-25-nov/
SUMMARY:BOREE LOG * My Spirit Animal * 23-25 Nov
DESCRIPTION:Here we are again\, Boree Log. For those who don’t know\, twi
 ce a year UNSWOC packs up all its gear and heads to an awesome location fo
 r a weekend. If you want to try climbing\, canyoning or bushwalking\, this
  is your chance! The way the weekend works is we all carpool out to a camp
 site on the Friday night. On the Saturday and Sunday everyone splits off i
 nto their individual trips and Saturday night is party night!\n\nLocation:
  Dunphy’s campground in the Megalong Valley (that’s in the Blue Mount
 ains).\n\nWhen: Friday 23rd to Sunday 25th of November (assuming good wea
 ther!)\n\nSigning Up:\nIn order to come on Boree Log\, you need to sign up
  for this event. However\, individual trips for the Saturday and Sunday wi
 ll be posted separately closer to the time. Sign up for a Saturday and Sun
 day trip only once you have been approved for the Boree Log event. You can
  only go on one trip on the Saturday and one on the Sunday\, so don’t si
 gn up to multiple trips on each day.\n\nGetting There:\nYou will need to o
 rganise your own transport. A carpooling event will be set up in the UNSWO
 C facebook page. Drivers can post where and when they’re leaving Sydney 
 and how many seats they have (it will keep the cost of driving down). Peop
 le who need a lift can then find a seat and message the driver. Passengers
  will need to pitch in for fuel (~$10).\n\nFood:\nWe will be having a big 
 cook up on the Saturday night\, but aside from this you will need to bring
  your own food. That’s food for Friday night\, Saturday and Sunday. Anyo
 ne who doesn’t bring food will be having the Punch of Punishment for din
 ner on Saturday night (see below).\n\nWater:\nBring lots. There is none at
  the campsite.\n\nParty Night:\nTheme is My Spirit Animal\, best dressed g
 ets eternal glory (and Punch of Pride). It wouldn't be Boree Log without s
 ome fancy dress so get keen\, get involved and get creative! It’s BYO\, 
 but as usual we will also have the Punch of Punishment for people who have
  done something silly on a club trip in the last year. Fine your friends h
 ere!\n\nGear:\nSee the Boree Log Packing List.\nHere is a short important 
 list:\n\n 	Sleeping Bag*\n 	Sleeping Mat*\n 	Tent*\n 	Headtorch\n 	Cutlery
  and bowl\n 	Your own food/water\n 	Warm clothes The Blue Mountains are co
 lder than Sydney\, please come prepared CHECK THE WEATHER!\n 	Money for fu
 el\n\n*The club has a VERY limited supply of these. To avoid disappointmen
 t and freezing\, best to bring your own if you have it.\n\nTrip specific g
 ear can be borrowed from the club at the event - but if you have a persona
 l harness\, helmet\, etc. please bring it because club supplies are limite
 d.\n\nAny More Questions?\nHere is a good FAQ\nHere is a good summary of 
 what Boree Log is about.\nStill have questions? Contact a member of the ex
 ec or post in the FB event.
CATEGORIES:Boree Log
END:VEVENT
END:VCALENDAR