BEGIN:VCALENDAR
VERSION:2.0
PRODID:-//wp-events-plugin.com//7.2.3.1//EN
TZID:Australia/Sydney
X-WR-TIMEZONE:Australia/Sydney
BEGIN:VEVENT
UID:628@unswoc.org
DTSTART:20141031T060000Z
DTEND:20141102T060000Z
DTSTAMP:20141030T092833Z
URL:https://unswoc.org/wordpress/events/boree-log-semester-2014/
SUMMARY:Boree Log Semester Two 2014
DESCRIPTION:Listen in close young guns. In this clubs 70 year history a few
  spooky happenings sure have happened.\nI heard stories. Dark stories. The
 y say the woods around barrington tops are cursed you know?\nSo what does 
 that mean to all of us? Should we hide in our warm beds this Halloween?\nO
 f course not\, it’s time for Boree Log!\nSo dust off your harnesses\, p
 addles\, ropes\, mountain bikes\, crucifixes\, oujia boards and pack a spa
 re pair of undies. Things might get a little scary for a while here. Watch
  out I hear one of the kayaks has a ghost in it!\nTo those of you familiar
 \, no description is required. To the new people\, this is the clubs bi-an
 nual trip where everyone is encouraged to come out to the great outdoors t
 o participate in kayaking\, rafting\, climbing\, canyoning\, hiking\, moun
 tain biking\, trail running or whatever takes your fancy! Never mind if yo
 u have no experience with these things\, this is your chance to give it a 
 go!\nFor the first time we will be heading up to The Steps Campsite nr Bar
 rington Tops on Friday evening\, so we can get up early for a day of fun a
 nd adventure on Saturday. Trip details will be posted up closer to the dat
 e\, so don’t worry about organising trips just yet.\nOn Saturday night\,
  there will be a bon fire as well as feast prepared to sate the appetite y
 ou worked up during the day. Saturday night is also the party night\, so B
 YO. This years is the clubs 70th birthday and I here all the curses we've 
 acquired will be washed away in a huge Halloween party on the Saturday nig
 ht. Bring your spookiest costume and get ready for a feast. No costume\, b
 ack off the line for dinner\nOn Sunday we will wake up and do it all over 
 again!\nIf you don’t know what to bring\, here is a useful guide. The c
 lub will be able to prived you technical equipment\, but if you have your 
 own wetsuits\, harnesses\, misc climbing gear etc.\, please bring it\, bec
 ause supplies are limited. The club will also have a number of tents for p
 eople to sleep in\, but again\, if you have your own\, bring it also. The 
 club has NO sleeping mats or sleeping bags. It won’t be too cold\, so a 
 doona will suffice if you don’t have a sleeping bag.\nEveryone is encour
 aged to collect some firewood on their way to the campsite – it helps wi
 th cooking dinner and creating a warm and sociable atmosphere.\nYou will n
 eed to pay for camping on this site in order to attend. This will cost $24
  fIt's only $24 for the camping fees for the weekend\, which gets you acce
 ss to the campground\, showers\, amenities and one of the most beautiful p
 laces in Australia!!!  (We've got a 20% discount from BOAC have given us\
 ; down from $30). You will be taken to the paypal payment page when you cl
 ick "Attend this trip" below. Any issues\, please contact treasurer@unswoc
 .org.\nNo doubt you will have questions\, so please read this FAQ\, and if
  that doesn't answer your questions get in contact with us on the club’
 s Facebook page and we will try to help you out.\nHappy Days :D.
ATTACH;FMTTYPE=image/jpeg:https://unswoc.org/wordpress/wp-content/uploads/
 2014/10/boree.jpg
CATEGORIES:Boree Log
LOCATION:The Steps of Girriba\, 535 Manchester Rd Bindera NSW 2422\, Barrin
 gton\, Australia
GEO:-32.033497;151.839310
X-APPLE-STRUCTURED-LOCATION;VALUE=URI;X-ADDRESS=535 Manchester Rd Bindera N
 SW 2422\, Barrington\, Australia;X-APPLE-RADIUS=100;X-TITLE=The Steps of G
 irriba:geo:-32.033497,151.839310
END:VEVENT
END:VCALENDAR