BEGIN:VCALENDAR
VERSION:2.0
PRODID:-//wp-events-plugin.com//7.2.3.1//EN
TZID:Australia/Sydney
X-WR-TIMEZONE:Australia/Sydney
BEGIN:VEVENT
UID:1470@unswoc.org
DTSTART:20151030T030000Z
DTEND:20151101T090000Z
DTSTAMP:20151030T042617Z
URL:https://unswoc.org/wordpress/events/boree-log-sem-2-2015/
SUMMARY:Boree Log Sem 2 2015 - The Bender Ball
DESCRIPTION:Ladies and Gentlemen\, you are cordially invited to join us in 
 celebration at Boree Log.\n\nTo those of you familiar\, no description is 
 required. To the new people Boree Log is the clubs bi-annual trip where E
 VERYONE is encouraged to come out to the great outdoors to participate in 
 Climbing\, Canyoning\, Bushwalking\, Slack-lining or whatever takes your 
 fancy! Never mind if you have no experience with these things\, this is yo
 ur chance to give it a go!\n\nAs usual for Semester 2 we’ll be heading s
 omewhere different. This year we will be going to Newnes Campground in the
  Wolgan Valley (Driving Directions). Most people head up Friday afternoon/
 evening so we can get up early for a day of fun and adventure on Saturday.
  Individual trip details will be posted up closer to the date\n\nOn Saturd
 ay night\, there will be a bon-fire as well as feast prepared to sate the 
 appetite you worked up during the day. Saturday night is also the party ni
 ght\, so BYO\, and bring lots of it. This Boree Log will be Gender-Bender
  Formal themed\, so guys\, dust off your dresses\, and girls\, break out 
 that suit and tie! Remember\, no costume\, back of the line for dinner. As
  usual\, there will be Punch of Punishment\, you can nominate friends here
 .\n\nOn Sunday we will wake up and do it all over again!\n\nIf you don’t
  know what to bring\, here is a useful guide. The club will be able to pro
 vide you technical equipment\, but if you have your own wetsuits\, harness
 es\, misc climbing gear etc.\, please bring it\, because supplies are limi
 ted. The club will also have a number of tents for people to sleep in\, bu
 t again\, if you have your own\, bring it also. The club has NO sleeping m
 ats or sleeping bags. It won’t be too cold\, so a doona will suffice if 
 you don’t have a sleeping bag (but make sure you have a mat).\n\nEveryon
 e is encouraged to collect some firewood on their way to the campsite – 
 it helps with cooking dinner and creating a warm and sociable atmosphere. 
 All it takes is a couple of logs from everyone and we'll be set. Please no
 te that collecting firewood within the national park is prohibited\, so pl
 ease do so before entering the park (anywhere along the road before enteri
 ng the campsite).\n\nCamping at this campsite is free\, and the only ameni
 ties are long drop dunnies\, so you will need to bring your own water.\n\
 nNo doubt you will have questions\, so please read this FAQ\, and if that 
 doesn’t answer your questions get in contact with us on the club’s Fac
 ebook page and we will try to help you out.\n\n&nbsp\;
CATEGORIES:Boree Log
END:VEVENT
END:VCALENDAR