BEGIN:VCALENDAR
VERSION:2.0
PRODID:-//wp-events-plugin.com//7.2.3.1//EN
TZID:Australia/Sydney
X-WR-TIMEZONE:Australia/Sydney
BEGIN:VEVENT
UID:1964@unswoc.org
DTSTART:20160317T210000Z
DTEND:20160320T110000Z
DTSTAMP:20160315T061545Z
URL:https://unswoc.org/wordpress/events/boree-log-sem-1-2016-grandma-grand
 pa/
SUMMARY:Boree Log Sem 1 2016 - Grandma and Grandpa
DESCRIPTION:Ah\, why hello there darling\, please come in. Would you like s
 ome tea? I'll put the kettle on because IT'S TIME FOR BOREE LOG!\n\n\n\nT
 o those of you familiar\, no description is required. To the new people B
 oree Log is the club's bi-annual trip where EVERYONE is encouraged to come
  out to the great outdoors to participate in Climbing\, Canyoning\, Bushwa
 lking\, Slack-lining or whatever takes your fancy! Never mind if you have
  no experience with these things\, this is your chance to give it a go!\n\
 nAs usual for Semester 1 we’ll be heading up to Cathedral of Ferns Camps
 ite on Mt Wilson. Most people head up Friday afternoon/evening so we can g
 et up early for a day of fun and adventure on Saturday. Trip details will 
 be posted up closer to the date\, so don’t be too concerned about secur
 ing a spot super early.\n\nOn Saturday night\, there will be a bon-fire as
  well as feast prepared to sate the appetite you worked up during the day.
  Saturday night we'll have a party\, as usual there will be Punch of Punis
 hment\, you can nominate friends here.\n\nNow\, we're all getting older\, 
 starting to feel it in our bones. Perhaps you've started napping\, maybe y
 our knee needs replacing\, or you might need to relieve yourself three tim
 es a night. Well you'll feel right at home because this year the theme is 
 'Grandma and Grandpa'\, so get yourself a flash new cane\, polish those de
 ntures\, and pluck those nose hairs. Remember\, no costume\, back of the l
 ine for dinner.\n\nOn Sunday we will wake up and do it all over again!\n\n
 If you don’t know what to bring\, here is a useful guide. The club will 
 be able to provide you technical equipment\, but if you have your own wets
 uits\, harnesses\, misc climbing gear etc.\, please bring it\, because sup
 plies are limited. The club will also have a number of tents for people to
  sleep in\, but again\, if you have your own\, bring it also. The club has
  NO sleeping mats or sleeping bags. It won’t be too cold\, so a doona wi
 ll suffice if you don’t have a sleeping bag.\n\nEveryone is encouraged t
 o collect some firewood on their way to the campsite – it helps with coo
 king dinner and creating a warm and sociable atmosphere.\n\nCamping at thi
 s campsite is free\, and the only amenities are long drop dunnies and a wa
 ter tank.\n\nNo doubt you will have questions\, so please read this FAQ\, 
 and if that doesn’t answer your questions get in contact with us on the 
 club’s Facebook page and we will try to help you out.\n\n&nbsp\;\n\nIt's
  time to feel young again!
CATEGORIES:Boree Log
END:VEVENT
END:VCALENDAR