BEGIN:VCALENDAR
VERSION:2.0
PRODID:-//wp-events-plugin.com//7.2.3.1//EN
TZID:Australia/Sydney
X-WR-TIMEZONE:Australia/Sydney
BEGIN:VEVENT
UID:655@unswoc.org
DTSTART;VALUE=DATE:20150313
DTEND;VALUE=DATE:20150316
DTSTAMP:20150307T125554Z
URL:https://unswoc.org/wordpress/events/boree-log-sem-1-2015-the-ides-of-m
 arch/
SUMMARY:(TRIP FULL) Boree Log Sem 1 2015 - The Ides of March
DESCRIPTION:Boree Log Semester 1 2015 - The Ides of March
ATTACH;FMTTYPE=image/jpeg:https://unswoc.org/wordpress/wp-content/uploads/
 2015/02/ides-of-march.jpg
CATEGORIES:Boree Log
LOCATION:Cathedral Reserve Camping Ground\, \, 
GEO:0.000000;0.000000
X-APPLE-STRUCTURED-LOCATION;VALUE=URI;X-ADDRESS=\, ;X-APPLE-RADIUS=100;X-TI
 TLE=Cathedral Reserve Camping Ground:geo:0.000000,0.000000
END:VEVENT
END:VCALENDAR