BEGIN:VCALENDAR
VERSION:2.0
PRODID:-//wp-events-plugin.com//7.2.3.1//EN
TZID:Australia/Sydney
X-WR-TIMEZONE:Australia/Sydney
BEGIN:VEVENT
UID:1992@unswoc.org
DTSTART;VALUE=DATE:20160319
DTEND;VALUE=DATE:20160320
DTSTAMP:20160317T105204Z
URL:https://unswoc.org/wordpress/events/boree-log-saturday-ziggity-zag/
SUMMARY:Boree Log Saturday: Ziggity Zag
DESCRIPTION:Before joining this trip you must be approved for the Boree L
 og event: http://unswoc.org/wordpress/events/boree-log-sem-1-2016-grandma
 -grandpa/\n\nCome join Jarrod and I for some beginner/intermediate climbin
 g at Zig zag! Pretty standard procedure\, we'll do some sport and have som
 e top ropes set up too.\n\nIf you would consider yourself intermediate the
 n please put that in the comment when you request to join\, and also if yo
 u have a car then put that in the comment (or message me) so that we can o
 pen up more spots!\n\nWHAT TO BRING:\n\nYou should be able to borrow most 
 things on this list from the club on Saturday morning at the campsite but 
 if you have any of the equipment please bring your own :)\n\n	Helmet\n	Har
 ness\n	Belay device (e.g. an ATC) and locking biner\n	Climbing shoes\n	Cha
 lk and chalk bag\n	Food and water (1.5L of water and snacks+lunch)\n	Sunsc
 reen\n\nOptional:\n\n	Quickdraws and boltplates if you have them.\n\nthecr
 ag guide: https://www.thecrag.com/climbing/australia/blue-mountains/the-z
 igzag\n\n&nbsp\;
CATEGORIES:Outdoor Climbing
END:VEVENT
END:VCALENDAR