BEGIN:VCALENDAR
VERSION:2.0
PRODID:-//wp-events-plugin.com//7.2.3.1//EN
TZID:Australia/Sydney
X-WR-TIMEZONE:Australia/Sydney
BEGIN:VEVENT
UID:746@unswoc.org
DTSTART;VALUE=DATE:20150314
DTEND;VALUE=DATE:20150315
DTSTAMP:20150310T051226Z
URL:https://unswoc.org/wordpress/events/boree-log-saturday-intermediate-cl
 imbing/
SUMMARY:Boree Log Saturday Intermediate Climbing
DESCRIPTION:Alternative climbing trip for the Saturday of Boree Log. To com
 e on this trip you must have your own gear. We will not be using or provi
 ding any club gear for this trip. If you don't have gear then check out th
 e Saturday Dam Cliffs climbing trip. Location for this trip to be decided 
 on Saturday but it will be somewhere with a selection of intermediate spor
 t-climbing routes (generally grades 16-20) such as Barden's Lookout (near 
 Mt York)\, Medlow Bath or the new Bell Crag.\n\nAny questions please get i
 n touch with either Rene Provis or Matthew Perrett\, otherwise sign up bel
 ow.
CATEGORIES:Outdoor Climbing
END:VEVENT
END:VCALENDAR