BEGIN:VCALENDAR
VERSION:2.0
PRODID:-//wp-events-plugin.com//7.2.3.1//EN
TZID:Australia/Sydney
X-WR-TIMEZONE:Australia/Sydney
BEGIN:VEVENT
UID:1975@unswoc.org
DTSTART;VALUE=DATE:20160319
DTEND;VALUE=DATE:20160320
DTSTAMP:20160315T035626Z
URL:https://unswoc.org/wordpress/events/boree-log-saturday-hole-wall-canyo
 n/
SUMMARY:Boree Log Saturday: Hole in the Wall Canyon
DESCRIPTION:Ello beloved Boree-Loggers\,\n\nOn the Saturday of Boree Log\, 
 Nicola\, Bayu and I will be running an intermediate canyon through Hole in
  the Wall. Hole in the Wall is a fantastic canyon with a few abseils\, nar
 row constrictions and an amazing cave populated with glow worms.\n\nTo do 
 this canyon you must have abseiled and canyoned before as some of the abse
 ils can be a little tricky. If you're not sure whether you'd be suitable f
 or this canyon\, feel free to shoot me a message.\n\nWHAT TO BRING:\n\n	We
 tsuit (optional thermals to wear underneath)\n	Helmet\n	Harness\n	Belay de
 vice (e.g. an ATC) and locking biner\n	Safety sling\n\n(If you don't have 
 any of the above items\, we'll sort this out on Saturday morning by borrow
 ing club gear. That being said\, it would be great if you could source you
 r own wetsuit as wetsuits are usually highly sort after by other canyoning
  trips)\n\n	Head torch\n	Water - at least 1.5L\n	Food - enough for lunch a
 nd snacks\n	Dry bag - you can buy these from any outdoors store\, be reall
 y nice and ask to borrow someone else's or use a few plastic bags wrapped 
 on top of each other. Dry bags carry your food\, spare clothes and anythin
 g else that you don't want to get wet during the canyon\n	Backpack that yo
 u don't mind getting wet and thrown around\n	Shoes with good grip and drai
 nage - Dunlop volleys are a good bet if you don't have anything else\n	Woo
 len socks - absolutely no cotton as this will freeze your feet\n	Dry cloth
 es to change into for the walk out\n\n&nbsp\;\n\nIf you have any questions
 \, feel free to message Nicola\, Bayu or myself.\n\nCheers!\n\n&nbsp\;\n\n
 &nbsp\;
CATEGORIES:Canyoning
END:VEVENT
END:VCALENDAR