BEGIN:VCALENDAR
VERSION:2.0
PRODID:-//wp-events-plugin.com//7.2.3.1//EN
TZID:Australia/Sydney
X-WR-TIMEZONE:Australia/Sydney
BEGIN:VEVENT
UID:2082@unswoc.org
DTSTART;VALUE=DATE:20161029
DTEND;VALUE=DATE:20161030
DTSTAMP:20161022T033802Z
URL:https://unswoc.org/wordpress/events/boree-log-saturday-hiking-trip-the
 -white-track/
SUMMARY:BOREE LOG - Saturday hiking trip - The white track
DESCRIPTION:Yo yo Boree loggers!\n\nHanna and I will be running a hike from
  the Bungonia campsite\, along the plateau (green track)\, up to Mt Ayre a
 nd then down to the Shoalhaven river (white track).\nThis hike will featur
 e spectacular views\, challenging but rewarding ascents\, potential swimmi
 ng in the Shoalhaven and lots of MUSHROOOOOMS (for viewing not for eating
 ).\n\n\nNot my image!\nThere will be a few steep decents and ascents but t
 his walk is suitable for ALL levels of fitness. It will take us between 5-
 7 hrs to complete this walk including a long relaxing break by the shoalha
 ven river.\n\nWe will be LEAVING the campsite around 8:30 AM\, planning to
  return around 4:00 PM at the latest.\n\nYOU WILL NEED:\n\n	Head-torch 
 – Very important. If we get stuck in the dark you will have a horrible t
 ime ascending Mt Ayre.\n	Sunscreen– Make sure you bring lots of sunscree
 n and apply every few hours!\n	Water– Water is extremely important. Brin
 g AT LEAST 2L of water. There will be a place to fill up a the campsite an
 d about 3/4 into the day (approx. 5-6hrs in) So come prepared!! You can fi
 ll up in the Shoalhaven if you're game.\n	Lunch– You must provide your O
 WN lunch.\n	Snacks– We’ll be doing a lot of exercise\, so make sure yo
 u bring lots of snacks to keep your energy levels up! Bring things like nu
 ts\, fruit\, dried fruit\, lollies\, biscuits\, chocolate\, muesli bars\, 
 etc.\n	Appropriate clothes – Appropriate hiking shoes\, Hat\, light clo
 thes (you will get hot!)\, a jumper and raincoat in case of bad weather.\n
 	First Aid Kit – If you have one.\n	Swimmers - Hopefully it will be a 
 nice hot day and we can go for a swiiiiiiiim in the Shoalhaven.\n	MOST IMP
 ORTANTLY - You will need to sign up to the MAIN Boree log event before yo
 u will be accepted for this one.\n\n
END:VEVENT
END:VCALENDAR