BEGIN:VCALENDAR
VERSION:2.0
PRODID:-//wp-events-plugin.com//7.2.3.1//EN
TZID:Australia/Sydney
X-WR-TIMEZONE:Australia/Sydney
BEGIN:VEVENT
UID:1980@unswoc.org
DTSTART:20160318T210000Z
DTEND:20160319T060000Z
DTSTAMP:20160317T060854Z
URL:https://unswoc.org/wordpress/events/boree-log-saturday-damned-cliffs/
SUMMARY:Boree Log Saturday: Damned Cliffs!
DESCRIPTION:To join this trip you must have been approved for the Boree Log
  event: http://unswoc.org/wordpress/events/boree-log-sem-1-2016-grandma-g
 randpa/\n\nOn Saturday\, Kylie and myself will be running some 'sweet ez' 
 climbing at Dam Cliffs. This event is perfect for those who have never cli
 mbed outdoors and would like to give it a go. The climbs range from easy t
 o hard\, so skill level is no issue! There's also a deep water solo\, so b
 ring swimmers/westuit and a change of clothes if you'd like to give it a 
 go! Depending on the availability of equipment\, there may be an opportuni
 ty to lead for intermediate climbers.\n\nWHAT TO BRING:\n\nGear will be so
 rted on Saturday morning\, but you need to bring:\n\n	Helmet\n	Harness\n	B
 elay device (e.g. an ATC) and locking biner\n	Climbing shoes\n	Chalk and c
 halk bag\n	Food and water (1.5L of water and snacks+lunch)\n	Sunscreen\n	C
 rush\n\nOptional:\n\n	Swimmers/wetsuit\n	Oak for celebrating your ascents\
 n\nthecrag guide: https://www.thecrag.com/climbing/australia/blue-mountai
 ns/the-dams-cliffs\n\ngmaps: https://www.google.com.au/maps/place/Dam+Cli
 ffs/@-33.4833877\,150.2498072\,15z/data=!4m2!3m1!1s0x0:0xc730b7fcab61f218\
 n\nSpaces are currently limited\, but as more cars become available I will
  open the trip up to more people\n\nPeace
CATEGORIES:Outdoor Climbing
END:VEVENT
END:VCALENDAR