BEGIN:VCALENDAR
VERSION:2.0
PRODID:-//wp-events-plugin.com//7.2.3.1//EN
TZID:Australia/Sydney
X-WR-TIMEZONE:Australia/Sydney
BEGIN:VEVENT
UID:2383@unswoc.org
DTSTART;VALUE=DATE:20190323
DTEND;VALUE=DATE:20190324
DTSTAMP:20190312T124425Z
URL:https://unswoc.org/wordpress/events/boree-log-saturday-climbing-beginn
 er-intermediate/
SUMMARY:Boree Log Saturday Climbing (Beginner/Intermediate) Mt York
DESCRIPTION:Gday\n\nJames and I (Henry) will be leading a climbing trip bor
 ee log Saturday. All abilities welcome as we will be setting up some top r
 opes. This likely won't be a full trad workshop but if you're interested i
 n trad come along as you can second some trad leads as we set up the climb
 s.\n\nPlease include in the comments: your climbing experience\, whether y
 ou are able to drive and what climbing gear you already own.\n\nWe will me
 et up at 8:00am on Saturday morning at the Boree Log campground near the t
 railer or you can arrange to meet at the parking area. Any gear that you r
 equire will be collected together on Saturday morning from the trailer.\n\
 n 	Gear: harness\, helmet\, climbing shoes\, ATC + carabiner (if you have
  your own make sure you bring it!!!).\n 	What to bring: sunscreen\, 2L wa
 ter (minimum!)\, food for the day\, sporty-warm clothes\, a day backpack t
 o fit all your stuff inside\, camera\, smiles\, etc.\n 	Meeting point: 8:
 00am at Boree Log Trailer (Cathedral of Ferns Campground\, Mt Wilson).\n\n
 *You must sign up to and be approved for the Boree Log trip on this websit
 e before you are approved for this trip.\n\nSee you there!
CATEGORIES:Outdoor Climbing
END:VEVENT
END:VCALENDAR