BEGIN:VCALENDAR
VERSION:2.0
PRODID:-//wp-events-plugin.com//7.2.3.1//EN
TZID:Australia/Sydney
X-WR-TIMEZONE:Australia/Sydney
BEGIN:VEVENT
UID:2857@unswoc.org
DTSTART;TZID=Australia/Sydney;VALUE=DATE:20210220
DTEND;TZID=Australia/Sydney;VALUE=DATE:20210221
DTSTAMP:20210216T065706Z
URL:https://unswoc.org/wordpress/events/boree-log-saturday-canyoning-casca
 de-falls/
SUMMARY:BL Saturday | Canyoning | Cascade Falls
DESCRIPTION:Hi UNSWOCers\,\n\nCome along for a fantastic day of canyoning a
 long the Cascade Falls. Described as a " short and sweet series of waterfa
 lls" it should be a very fun day sutiable for beginners and intermediate c
 anyoners. Please reach out to Nadav or myself if you have any questions.\n
 \nSome more info can be found here:Cascade Falls ttps://canyoning.org.au/f
 orum/viewtopic.php?t=799\n\nMANDATORY EQUIPTMENT YOU MUST TO BRING (or arr
 ange to borrow from club)\n-Descender device (ATC\, figure 8 or descender 
 of personal choice)\n-Wetsuit (Canyons are wet and cold :( )\n-Climbing he
 lmet\n- Sling and locking Carabiner\n-Warm dry layer\n-Sturdy shoes to cla
 mber over rocks and hike for several hours (trainers are great)\n- 2L wate
 r\, Lunch and snacks for the day\n\nWe'll be in contact for more details c
 loser to the day :)\n\nPlease comment in the sign ups\, if you have car tr
 ansport or need a lift\, if you have canyoning/abseiling experience\, if y
 ou need equipment and be sure to let the leaders\n\nPlease also be COVID-1
 9 safe when attending any club trips\, an abide by the CLub's COVID-19's p
 olocies. If you have any symptoms or quesions please let us know.
ATTACH;FMTTYPE=image/jpeg:https://unswoc.org/wordpress/wp-content/uploads/
 2021/02/cascade-falls.jpg
CATEGORIES:Canyoning
END:VEVENT
BEGIN:VTIMEZONE
TZID:Australia/Sydney
X-LIC-LOCATION:Australia/Sydney
BEGIN:DAYLIGHT
DTSTART:20201004T030000
TZOFFSETFROM:+1000
TZOFFSETTO:+1100
TZNAME:AEDT
END:DAYLIGHT
END:VTIMEZONE
END:VCALENDAR