BEGIN:VCALENDAR
VERSION:2.0
PRODID:-//wp-events-plugin.com//7.2.3.1//EN
TZID:Australia/Sydney
X-WR-TIMEZONE:Australia/Sydney
BEGIN:VEVENT
UID:2075@unswoc.org
DTSTART;VALUE=DATE:20161029
DTEND;VALUE=DATE:20161030
DTSTAMP:20161024T213332Z
URL:https://unswoc.org/wordpress/events/boree-log-saturday-bungonia-canyon
 /
SUMMARY:Boree Log Saturday - Bungonia Canyon
DESCRIPTION:Intermediate Canyoning trip for Boree Log. Only suitable for p
 eople who can abseil and who have canyoned before.\n\nhttp://ozultimate.co
 m/canyoning/track_notes/bungonia_creek.htm\n\n&nbsp\;
END:VEVENT
END:VCALENDAR