BEGIN:VCALENDAR
VERSION:2.0
PRODID:-//wp-events-plugin.com//7.2.3.1//EN
TZID:Australia/Sydney
X-WR-TIMEZONE:Australia/Sydney
BEGIN:VEVENT
UID:2090@unswoc.org
DTSTART;VALUE=DATE:20161029
DTEND;VALUE=DATE:20161030
DTSTAMP:20161025T043948Z
URL:https://unswoc.org/wordpress/events/boree-log-saturday-bouldering/
SUMMARY:BOREE LOG – Saturday bouldering
DESCRIPTION:Hey hey\,\n\nThere is some great bouldering around Bungonia Cre
 ek just near Boree Log campsite!\nThat is\, I've heard there is\, I haven'
 t been before but we can check it out together.\n\nHere it is on The Craig
 :\n https://www.thecrag.com/climbing/australia/bungonia-gorge/area/4597773
 36\n\nBring along your shoes\, chalk\, sunscreen and lunch and hopefully s
 ome icecream :)\n\nSee you there\,\nLiam
CATEGORIES:Bouldering
END:VEVENT
END:VCALENDAR