BEGIN:VCALENDAR
VERSION:2.0
PRODID:-//wp-events-plugin.com//7.2.3.1//EN
TZID:Australia/Sydney
X-WR-TIMEZONE:Australia/Sydney
BEGIN:VEVENT
UID:2233@unswoc.org
DTSTART:20180316T220000Z
DTEND:20180317T070000Z
DTSTAMP:20210304T233332Z
URL:https://unswoc.org/wordpress/events/boree-log-saturday-beginners-inter
 mediate-climbing-bardens/
SUMMARY:Boree Log Saturday: Beginners-Intermediate Climbing @ Bardens
DESCRIPTION:Come join Abi\, Hayden and Jenny for a Beginners-Intermediate c
 limbing trip @ Bardens Lookout.\n\nThis trip is perfect for people who've 
 never been outdoors climbing before as well as those who want to push them
 selves a bit further. Check out the routes here: https://www.thecrag.com/
 climbing/australia/blue-mountains/bardens-lookout\n\nYou will need:\n\n 	C
 limbing shoes (can be borrowed from the club)\n 	Climbing helmet (can be b
 orrowed)\n 	Harness (can be borrowed)\n 	Belay device and locking carabine
 r (can be borrowed)\n 	Food and water for the day. At least 1.5L of water\
 n 	Walking shoes\n 	Backpack for all of the above\n\nPeople with cars will
  be preferenced so please indicate in the booking form or message Abi/Hayd
 en to let them know that you will be driving a motor vehicle.\n\nYou must 
 also be approved for Boree Log before you can join this trip.
CATEGORIES:Boree Log,Outdoor Climbing
END:VEVENT
END:VCALENDAR