BEGIN:VCALENDAR
VERSION:2.0
PRODID:-//wp-events-plugin.com//7.2.3.1//EN
TZID:Australia/Sydney
X-WR-TIMEZONE:Australia/Sydney
BEGIN:VEVENT
UID:2225@unswoc.org
DTSTART:20180316T220000Z
DTEND:20180317T070000Z
DTSTAMP:20180315T115038Z
URL:https://unswoc.org/wordpress/events/boree-log-saturday-beginners-climb
 ing-dam-cliffs/
SUMMARY:Boree Log Saturday: Beginners Climbing at Dam Cliffs
DESCRIPTION:For people who are new to rock climbing or never climbed outdoo
 rs before this is the perfect trip for you. Myself\, Xu Dong\, Henry B\, E
 lliot V and Nails will be running a chilled day of climbing\, deep water s
 oloing (climbing without ropes above deep water) and maybe water lining (s
 lack lining over water). We'll set up ropes just past the dam\, teach you 
 how to tie into a rope and answer any questions you may have about outdoor
  rock climbing. People who know how to rig a water line are greatly welcom
 e! The grade range of the area is about 14 - 25 with most routes being in 
 the low to high teens.\n\nAs with all Boree Log trips\, people with cars w
 ill be preferenced for sign-ups. When you are signing up there shoouuuulld
 d be an option to indicate your ownership of an available and functional m
 otor vehicle. Please tick the box if you are one of these people :)\n\nWha
 t YOU need to bring:\n\n 	Lunch and water for the day\n 	Sunscreen\n 	Swim
 mers and towel\n 	Any personal rock climbing gear that you own i.e. harnes
 s\, rock climbing shoes\, helmet\, chalk\, belay devices and locking carab
 iners\n 	Backpack for all of the above\n\nWhat WE will bring and what may 
 need to be shared:\n\n 	Climbing shoes\n 	Helmets\n 	Belay devices and loc
 king carabiner\n 	Harnesses\n 	Climbing Ropes\n\nStill got questions? Hit 
 up me up on facebook\n\n&nbsp\;\n\n&nbsp\;
CATEGORIES:Boree Log,Outdoor Climbing
END:VEVENT
END:VCALENDAR