BEGIN:VCALENDAR
VERSION:2.0
PRODID:-//wp-events-plugin.com//7.2.3.1//EN
TZID:Australia/Sydney
X-WR-TIMEZONE:Australia/Sydney
BEGIN:VEVENT
UID:2377@unswoc.org
DTSTART;VALUE=DATE:20190323
DTEND;VALUE=DATE:20190324
DTSTAMP:20190312T111919Z
URL:https://unswoc.org/wordpress/events/boree-log-saturday-beginners-climb
 ing-bell-supercrag/
SUMMARY:Saturday BL - Beginners Climbing at Bell Supercrag
DESCRIPTION:G’day mates\,\n\nJosh\, Glenn and I (Tad) will be leading a c
 limbing trip to Bell Supercrag (The Blowhole area) in the Blue Mountains d
 uring the Saturday of Boree Log.\n\nNo climbing experience is required as 
 we’ll be setting up top ropes. The easiest climbs are grade 15 and 16 an
 d there are some great 20+ climbs for those keen. It is a long but enjoyab
 le 1hr hike into the crag.\n\nPlease include in the comments: your climbin
 g experience\, whether you are able to drive\, the colour of your eyes (ra
 ndom survey) and what climbing gear you already own.\n\nWe will meet up at
  8:00am on Saturday morning at the Boree Log campground near the trailer o
 r you can arrange to meet at the parking area. Any gear that you require w
 ill be collected together on Saturday morning from the trailer.\n\n 	Gear:
  harness\, helmet\, climbing shoes\, ATC + carabiner (if you have your ow
 n make sure you bring it!!!).\n 	What to bring: sunscreen\, 2L water (min
 imum!)\, food for the day\, sporty-warm clothes\, a day backpack to fit al
 l your stuff inside\, camera\, smiles\, etc.\n 	Meeting point: 8:00am at 
 Boree Log Trailer (Cathedral of Ferns Campground\, Mt Wilson).\n\n*You mus
 t sign up to and be approved for the Boree Log trip on this website before
  you are approved for this trip.\n\nSee you there!\n\nJoshua Yang\, Glenn 
 Southern and Tadeh Karapetian
CATEGORIES:Boree Log,Outdoor Climbing
END:VEVENT
END:VCALENDAR