BEGIN:VCALENDAR
VERSION:2.0
PRODID:-//wp-events-plugin.com//7.2.3.1//EN
TZID:Australia/Sydney
X-WR-TIMEZONE:Australia/Sydney
BEGIN:VEVENT
UID:2113@unswoc.org
DTSTART:20170331T220000Z
DTEND:20170401T050000Z
DTSTAMP:20170327T101946Z
URL:https://unswoc.org/wordpress/events/boree-log-saturday-beginners-canyo
 n-dalpura/
SUMMARY:BOREE LOG SATURDAY - Beginners canyon - Dalpura
DESCRIPTION:Hey hey!\n\nSo this is a canyon aimed at absolute beginners who
  want to learn to abseil\, and I also might go through some prussiking and
  Knot tying skills throughout the day.\nThis canyon is supposed to be BEAU
 tiful with a lot of variety and excellent views of the Grose Valley! It's
  a relatively short canyon with only one abseil and a possible second\, s
 o we'll have plenty of time to take it slow and show you the ropes (hah!) 
 as we go. We'll also do a quick 'intro to abseiling' at the campsite for b
 eginners or for anyone who wants a recap. If we finish early then we can e
 ither go over some more canyoning skills\, or we can run through Grand Can
 yon at Blackheath.\n\nWHAT TO BRING:\n\n	SHOES - note that these shoes are
  going to get wet and dirty. I recommend buying a pair of cheap volleys or
  other light shoes. I DON'T recommend hiking shoes.\n	DRY BAG - Anything y
 ou take into the canyon is probably going to get wet. If you want snacks o
 r dry clothes I suggest investing in a dry bag. You can get one for ~$10 f
 rom any outdoors store.\n	SNACKS - Food is so important in canyons. It kee
 ps your energy levels up and also can keep you warm! I recommend muesli ba
 rs\, nuts\, fruit\, chocolate and anything that's going to keep you happy!
 \n	LUNCH - You must provide your own lunch!\n	CLOTHES - Warm socks and a p
 air of daggy shorts are essential\, again these will get wet and dirty. Op
 tional: Warm dry clothes for the walk out is always nice but if you don't 
 have a dry bag they'll just get wet.\n	BACKPACK - to carry all these thing
 s!\n\nWHAT WE'LL PROVIDE (if you own any of these items please bring them)
 :\n\n	Harness\n	Belay device (probably an ATC)\n	Slings\n	Wetsuit\n	Ropes\
 n	Helmet\n	Banter!\n\nPLAN:\n\n	Meet at Mt Wilson around 9 AM for intro to
  abseiling\n	Leave Mt Wilson around 11 AM (it's a short drive to the start
 )\n	Finish canyon around ~ 4PM\n	\n
CATEGORIES:Boree Log,Canyoning
END:VEVENT
END:VCALENDAR