BEGIN:VCALENDAR
VERSION:2.0
PRODID:-//wp-events-plugin.com//7.2.3.1//EN
TZID:Australia/Sydney
X-WR-TIMEZONE:Australia/Sydney
BEGIN:VEVENT
UID:710@unswoc.org
DTSTART:20150313T210000Z
DTEND:20150314T060000Z
DTSTAMP:20150310T030737Z
URL:https://unswoc.org/wordpress/events/boree-log-saturday-beginnerinterme
 diate-canyon-serendipity/
SUMMARY:Boree Log Saturday Beginner/Intermediate Canyon  -Serendipity
DESCRIPTION:TRIP IS NOW FULL\n\nHowdy keen canyoners...\n\nHeading down Ser
 endipity on Saturday of Boree log.  This trip requires swimming in cold w
 ater and abseiling down slippery wet waterfalls\, so it's super fun!\n\nTh
 e trip begins from the campground so no cars are required for transport\, 
 but you will need:\n\n-harness\n\n-belay device\n\n-helmet (bike helmet is
  fine)\n\n-wetsuit (short one is fine) or a full set of long thermals\n\n-
 full set of dry clothes and socks\n\n-enclosed shoes that can get wet and 
 dirty (don't even joke about rocking up in thongs or sandals -it's pretty 
 easy to leave you behind when we start from the campground -we'll give you
  some peeling spud duties to fill in your time)\n\n-backpack (and a drybag
  if you have one)\n\n-packed lunch\, water bottle (at least 1L) and snacks
 \, you will get really hungry because you will be cold\n\n-something warm 
 for your head like a beanie is good too :-)\n\nPlease let me know what gea
 r you have as there will be a limited amount available from the club as th
 ere are so many trips running all on one day.  If you are not sure what c
 anyoning is see the canyoning page of the website under the "sports" tab a
 bove.\n\nThe picture is from this canyon (courtesy fat canyoners) so get e
 xcited!\n\n&nbsp\;
ATTACH;FMTTYPE=image/jpeg:https://unswoc.org/wordpress/wp-content/uploads/
 2015/03/Serendipity.jpg
CATEGORIES:Canyoning
LOCATION:\, \, 
X-APPLE-STRUCTURED-LOCATION;VALUE=URI;X-ADDRESS=\, ;X-APPLE-RADIUS=100;X-TI
 TLE=:geo:0,0
END:VEVENT
END:VCALENDAR