BEGIN:VCALENDAR
VERSION:2.0
PRODID:-//wp-events-plugin.com//7.2.3.1//EN
TZID:Australia/Sydney
X-WR-TIMEZONE:Australia/Sydney
BEGIN:VEVENT
UID:636@unswoc.org
DTSTART;VALUE=DATE:20141101
DTEND;VALUE=DATE:20141102
DTSTAMP:20141026T224738Z
URL:https://unswoc.org/wordpress/events/boree-log-saturday-beginner-mtb/
SUMMARY:Boree Log – Saturday Beginner MTB
DESCRIPTION:Hey guys\,\n\nFor the inaugural Barrington Tops Boree Log I’l
 l be running a mountain biking trip\; to make the most of the lovely bike 
 park that’s also doubling up as our campsite.\nThe day will be relativel
 y relaxed and riders will hopefully have time to try out all the trails. I
 f time permits in the arvo we can also explore the surrounding area and ri
 de up Manchester Rd to meet up with the returning kayakers.\n\nGear list:\
 n-A mountain bike\; bring your own\, or borrow a bike from BOAC (http://ww
 w.boac.com.au/hiring.php). The bikes cost $65 for a day and come with a he
 lmet (NOTE: IF YOU DO NOT HAVE A BIKE YOU WILL HAVE TO BORROW FROM BOAC OR
  FROM A CLUB MEMBER.)\n- If you have a bike or any extra bikes that you'd 
 be willing to share\;  Niels will organize transport for them via the clu
 b's trailer if you do not have a bike rack on your car\; drop off time/poi
 nt is Friday (31/10/2014) morning at the gear cupboard.\n-Sunscreen\, Wate
 r\, snacks.\n\nLocation details and Park Map\nhttp://www.thestepsbarringto
 n.com.au/mountain-bike-park.html\n\nIf you have any questions just give me
  a call on 0433 935 228\nTo arrange for a bike drop off call Niels on 0417
  635 171\n\nCheers
CATEGORIES:Boree Log
LOCATION:The Steps of Girriba\, 535 Manchester Rd Bindera NSW 2422\, Barrin
 gton\, Australia
GEO:-32.033497;151.839310
X-APPLE-STRUCTURED-LOCATION;VALUE=URI;X-ADDRESS=535 Manchester Rd Bindera N
 SW 2422\, Barrington\, Australia;X-APPLE-RADIUS=100;X-TITLE=The Steps of G
 irriba:geo:-32.033497,151.839310
END:VEVENT
END:VCALENDAR