BEGIN:VCALENDAR
VERSION:2.0
PRODID:-//wp-events-plugin.com//7.2.3.1//EN
TZID:Australia/Sydney
X-WR-TIMEZONE:Australia/Sydney
BEGIN:VEVENT
UID:2135@unswoc.org
DTSTART;VALUE=DATE:20170401
DTEND;VALUE=DATE:20170402
DTSTAMP:20170328T212254Z
URL:https://unswoc.org/wordpress/events/boree-log-saturday-beginner-canyon
 -serendipity/
SUMMARY:(FULL) Boree Log Saturday: Beginner Canyon (Serendipity)
DESCRIPTION:Hey guys\,\n\nBlair and I (Liam) are running Serendipity canyon
  on the Saturday of Boree.\n\nTo come along\, sign up on here on this webs
 ite but the rest of the organisation will be done through facebook. When y
 ou sign up let me know if you've canyoned / abseiled before. Note: you can
  only attend this trip if you've signed up and attending the main Boree Lo
 g trip.\n\nThis canyon is near where we're camping - yay\, we don't need c
 ars! If you have a car but would like to join this trip\, let your friend 
 take your car on a their Saturday trip - it'll make transport easier for e
 veryone.\n\nThis is a beautiful canyon\, with deep thin slots and several 
 abseils. There's a whole bunch of photos on OzUltimate:\n\n\n\nGear you wi
 ll need !\n\n	* Wetsuit\n	Shorts to wear over your wetsuit to protect it (
 they will be getting wet and scratched)\n	* Helmet\, harness\, carabiner a
 nd abseiling device\n	Woolen socks (do not wear cotton or your feet will b
 e VERY VERY cold)\n	Enclosed shoes (these are going to get wet and muddy. 
 You can buy cheap ones from k-mart or big w)\n	at least 2L of water\n	Lunc
 h\n	Snacks (for your leaders!)\n	Backpack (That you dont mind getting wet 
 and can fit all your things)\n	Dry bag (these are waterproof bags that go 
 in the backpack to keep your things dry. You can get them at mountain desi
 gns for about $20. We also get 20% discount there - otherwise there might 
 be enough to share).\n	Torch (some kind of lighting device should be broug
 ht in the dry bag in the case we run out of sunlight!)\n	Dry thermals (top
  and bottom if you are the type that gets easily cold)\n\n*We have club ge
 ar to use on the day. But please bring your own if you have it. There may 
 be a limited supply!\n\n\nAsk us any questions on facebook: Liam Hayes &am
 p\; Blair Harkness
CATEGORIES:Canyoning
END:VEVENT
END:VCALENDAR