BEGIN:VCALENDAR
VERSION:2.0
PRODID:-//wp-events-plugin.com//7.2.3.1//EN
TZID:Australia/Sydney
X-WR-TIMEZONE:Australia/Sydney
BEGIN:VEVENT
UID:462@unswoc.org
DTSTART:20140321T210000Z
DTEND:20140322T070000Z
DTSTAMP:20140316T231948Z
URL:https://unswoc.org/wordpress/events/boree-log-saturday-beginner-canyon
 -bowens-south/
SUMMARY:Boree Log Saturday Beginner Canyon - Bowens South
DESCRIPTION:Hello Budding Young Canyoners!\n\nAnother beginner canyoning tr
 ip! This one is nice and close to the campsite and is a lovely trip. Check
  out the following website for details:\n\nhttp://ozultimate.com/canyoning
 /track_notes/bowens_creek_south.htm\n\nI'm not sure how many club wetsuits
  will be available\, so first preference will be given to those with a wet
 suit. If you don't have one of your own\, do your best to borrow one or tr
 ack one down in an op shop. For canyoning a 3/2 steamer is ideal\, but any
 thing will do for this canyon.\n\nIf you sign up for this trip please emai
 l me to let me know whether you have a car and whether or not you have a w
 etsuit. peddey@gmail.com\n\nAdditional REQUIRED equipment:\n\n- Closed-toe
  shoes\, ideally dunlop volleys but runners will do (no crocs or thongs!)\
 n\n- A day pack to carry your stuff (and if it's big enough to also carry 
 a rope then that's a plus!)\n\n- Water bottles (at least 2 1L bottles)\n\n
 - Lunch and snacks - it's a long day and you'll need energy!\n\n- Somethin
 g warm\, ideally thermals (top and bottom)\, beanie and a rain jacket\n\n-
  Board shorts or similar to wear over your wetsuit and protect it from scr
 apes\n\n- A torch and spare batteries\, ideally a headtorch\n\n- Something
  to keep your warm clothes\, lunch and headtorch dry in your bag. Ideally 
 a dry bag\, or else just bring lots of plastic garbage bags\n\nIf you have
  them\, please also bring a harness\, helmet\, descent device such as an A
 TC\, carabiner and sling or accessory cord for safety.\n\nIf you sign up f
 or this trip don't forget to send me an email! peddey@gmail.com you're als
 o welcome to give me a call 0411 467 041\n\nCheers\,\n\nPhilip
CATEGORIES:Boree Log,Canyoning
END:VEVENT
END:VCALENDAR