BEGIN:VCALENDAR
VERSION:2.0
PRODID:-//wp-events-plugin.com//7.2.3.1//EN
TZID:Australia/Sydney
X-WR-TIMEZONE:Australia/Sydney
BEGIN:VEVENT
UID:2230@unswoc.org
DTSTART;VALUE=DATE:20180317
DTEND;VALUE=DATE:20180318
DTSTAMP:20180309T003731Z
URL:https://unswoc.org/wordpress/events/boree-log-sat-twister-rocky-creek-
 canyon/
SUMMARY:BOREE LOG SAT - Twister/Rocky Creek Canyon
DESCRIPTION:Hey everyone :)\n\nRon and I are leading a trip to Twister/Rock
 y Creek canyon this Saturday. It’s a really fun day out – lots of awes
 ome slides and jumps\, and is beginner friendly 😊\n\nTrack notes: http:
 //ozultimate.com/canyoning/track_notes/rocky_creek.htm\, http://ozultimate
 .com/canyoning/track_notes/twister.htm\n\nThings to bring:\n\n 	SHORTS –
  to wear over the wetsuit – we don’t want the seat of the club wetsuit
 s to wear out on the slides! (seriously\, you may not get to wear a club w
 etsuit if you don’t have something to wear over it)\n 	HELMET\n 	Closed 
 shoes (volleys are pretty good if you are at a loss) and WOOLLEN socks\n 	
 Dry warm clothing (in a dry bag)\n 	Rain jacket/windbreaker if you have it
  + beanie if you get cold easily\n 	lunch and water\n 	head torch (also in
  dry bag) with full/spare batteries\n 	backpack to carry it all in\n 	WETS
 UIT (and ideally thermals to wear underneath and windbreaker/rainjacket + 
 beanie\, especially if you get cold easily)\n\nBtw\, cotton does not retai
 n heat once it gets wet so avoid cotton pls 😊
CATEGORIES:Canyoning
END:VEVENT
END:VCALENDAR