BEGIN:VCALENDAR
VERSION:2.0
PRODID:-//wp-events-plugin.com//7.2.3.1//EN
TZID:Australia/Sydney
X-WR-TIMEZONE:Australia/Sydney
BEGIN:VEVENT
UID:3328@unswoc.org
DTSTART;TZID=Australia/Sydney:20231013T050000
DTEND;TZID=Australia/Sydney:20231015T190000
DTSTAMP:20231012T224155Z
URL:https://unswoc.org/wordpress/events/boree-log-nautical-nonsense-campin
 g-only/
SUMMARY:Boree Log Nautical Nonsense - CAMPING ONLY
DESCRIPTION:&nbsp\;\nCAMPING ONLY - Boree Log Term 3 2023\n13th – 15th Oc
 tober\n\n\nMissed out on Boree Log signups but still want to come along fo
 r a weekend of fun\, friends and good times! Then you're in the right plac
 e.\n\nWe are opening up some CAMPING ONLY spots for Boree Log because we w
 ant as many of you to be involved as possible.\n\nHOWEVER! We will have a 
 few extra spots open in SUNDAY ONLY TRIPS! If you'd like to get onto one o
 f these\, please put which types of trip (Climbing\, Canyoning\, Kayak and
  Hike) you'd like to attend in the comment\, in order from most preferred 
 to least preferred. We will prioritise those who didn't make it into the m
 ain event.\n\n------------------------------------------------------------
 --------------------------------------------------------------------------
 -------------\n\nWhat this means\n\n 	You get to come along to the same ca
 mpground as everyone else from Friday night to Sunday Morning\n 	Saturday 
 night you get to join in on the Nautical Nonsense themed Party and Dinner
  (yes\, we will happily feed you)\n 	During the day on Saturday and Sunday
  you are more than welcome to split off and do your own adventures.\n\n 	T
 here's plenty of amazing day hikes around the area or you can go for a lov
 ely swim in the river. If you are self sufficient by all means go for a cl
 imb too!\n\n\n\n----------------------------------------------------------
 --------------------------------------------------------------------------
 ---------------\n\nThis event we will be at Bendeela Campground in the Ka
 ngaroo Valley. Our theme is Nautical Nonsense! We want to see your best oc
 ean and nautical themed costumes for Saturday night. From Spongebob to Jac
 k Sparrow to dressing as an inflatable swan\, if it’s in the ocean it’
 s free game. Be creative!\n\n---------------------------------------------
 --------------------------------------------------------------------------
 ----------------------------\n\nNote\, please do not expect to find any la
 st minute free spots on official Boree Log Trips once you get there\, thes
 e are currently full and the numbers need to be capped for safety.\n\nHowe
 ver you may be able to get on a Sunday Trip ONLY. Make sure to answer the 
 comment and we'll see what we can do. We will prioritise those who didn't 
 make it into the main event for these spots.\n\nIf spots do open up we wil
 l look to fill these.\n\n-------------------------------------------------
 --------------------------------------------------------------------------
 ------------------------\nPRE-VOTING! Compulsory for Australian Citizens!!
 \nVoting is compulsory for Australian citizens aged 18 years or older. If 
 you do not vote and don’t have a valid and sufficient reason\, you may b
 e fined.\n\nUnfortunately\, Boree Log this term has lined up with the Indi
 genous Voice Referendum date on October 14th. This means that all attendee
 s who are Australian Citizens MUST PRE-VOTE before the weekend.\n\nHundr
 eds of early voting centres will progressively open and be available over 
 the two weeks before voting day. In NSW\, early voting will begin Tuesday
  October 3rd.\n\nPlease use this site to find a polling location\, and g
 o in and vote as normal. It is the same process as you would have gone thr
 ough on the Referendum day.\n\nOtherwise you can apply for a postal vote.
 \n\nIf you have any concerns\, feel free to reach out to me\, Amelia Vasil
 iou\, on messenger or any of the exec.\n\n------------------------------
 --------------------------------------------------------------------------
 -------------------------------------------\n\nWhat do I need to bring! (I
 MPORTANT)\n\n 	Food and Water – There is drinking water at the campg
 round but please bring some from home and ensure you have a water containe
 r that can carry at least 2L for your day trips! A hundred people lining u
 p for water isn’t ideal. We will only be providing dinner on Saturday ni
 ght. There is also no power so bring a camping cooker or food that doesn
 ’t need to be cooked\n 	Tent – If you have your own tent\, please bri
 ng it. The club has a very limited number of tents that can be borrowed fr
 om the gear cupboard\, these are first-come-first-served.\n 	Sleeping Bag 
 and Sleeping Mat – You need to bring your own as it may be chilly\, an
 d a yoga mat/blanket might not be a fun night’s sleep for you\n 	WARM CL
 OTHES – We’re hoping for warm weather and clear skies\, please be pre
 pared for cold nights and rain if need be!\n 	Check this packing list if
  you are unsure what else to bring.\n 	Personal items (e.g. toiletries\, 
 face mask\, head torches\, rain jackets\, day pack\, personal first aid ki
 ts\, SUNSCREEN\, cutlery\, plate/bowl\, water bottle\, alcohol for Saturd
 ay night if you want)\n\n-------------------------------------------------
 --------------------------------------------------------------------------
 ------------------------\n\nHow do I get there?\n\n 	You'll be able to use
  the same carpooling as the Main Boree log event\n\n 	Click HERE for the c
 arpooling spreadsheet\n\n\n 	Please let us know in your signup if you have
  a car\, and how many spots you have!\n\n---------------------------------
 --------------------------------------------------------------------------
 ----------------------------------------\n\nOther Frequently Asked questio
 ns:\n\n 	Q: Can I bring a hairdryer/microwave?\n\n 	A: No\, we have no pow
 er at the campground. And yes we have been asked this before\n\n\n 	Q: Are
  there any toilet facilities?\n\n 	A: There are drop toilets. No running w
 ater. Please bring toilet paper!\n\n\n 	For more questions like this\, and
  actual answers too\, see the FAQ\n\n------------------------------------
 --------------------------------------------------------------------------
 -------------------------------------\n\nCost:\n\n 	Apart from petrol\, th
 is trip is free for all club members. Petrol costs will be split per car\,
  expect approx. $10 per person each way.\n\n------------------------------
 --------------------------------------------------------------------------
 -------------------------------------------\n\nSuper keen to see everyone 
 there. Get excited!
CATEGORIES:Boree Log
LOCATION:https://maps.app.goo.gl/68imKhPyKsEEpd4S8?g_st=ic
END:VEVENT
BEGIN:VTIMEZONE
TZID:Australia/Sydney
X-LIC-LOCATION:Australia/Sydney
BEGIN:DAYLIGHT
DTSTART:20231001T030000
TZOFFSETFROM:+1000
TZOFFSETTO:+1100
TZNAME:AEDT
END:DAYLIGHT
END:VTIMEZONE
END:VCALENDAR