BEGIN:VCALENDAR
VERSION:2.0
PRODID:-//wp-events-plugin.com//7.2.3.1//EN
TZID:Australia/Sydney
X-WR-TIMEZONE:Australia/Sydney
BEGIN:VEVENT
UID:314@unswoc.org
DTSTART:20131011T210000Z
DTEND:20131012T073000Z
DTSTAMP:20131003T232729Z
URL:https://unswoc.org/wordpress/events/boree-log-intermediate-canyoning/
SUMMARY:Boree Log Intermediate Canyoning
DESCRIPTION:If enough people are interested I will run a trip through Whung
 ee Wheengee on Saturday of Boree Log. Club gear could be limited\, so pre
 ference might need to be given to people with their own gear. It's quite a
  long\, challenging day\, but an absolutely beautiful canyon and well wort
 h it. Email me peddey@gmail.com or give me a call 0411 467 041 with any qu
 estions. See you all there!! :)\n\nhttp://ozultimate.com/canyoning/track_n
 otes/whungee_wheengee.htm
CATEGORIES:Boree Log
END:VEVENT
END:VCALENDAR