BEGIN:VCALENDAR
VERSION:2.0
PRODID:-//wp-events-plugin.com//7.2.3.1//EN
TZID:Australia/Sydney
X-WR-TIMEZONE:Australia/Sydney
BEGIN:VEVENT
UID:744@unswoc.org
DTSTART:20150313T220000Z
DTEND:20150314T060000Z
DTSTAMP:20150309T101557Z
URL:https://unswoc.org/wordpress/events/boree-log-intermediate-canyoning-s
 aturday/
SUMMARY:Boree Log Intermediate Canyoning Saturday
DESCRIPTION:Greetings\,\n\nThis trip will an intermediate/advanced canyon i
 n the Mt Wilson area for people who are self-sufficient\, have some experi
 ence canyoning\, have a reasonable fitness level\, and CAN SWIM.\n\nA remi
 nder of what self-sufficiency entails:\n\n- Helmet\, dry bag (in a bag)\, 
 wetsuit\, flotation device (optional)\, thermals\,  clothes\, hat\, enclo
 sed footwear\, food (brie and chocolate optional) and water.\n\nIf this l
 ist is news\, you fail to meet the criteria for this trip of fun.\n\nPlan 
 at present is to do Bell creek canyon. It's a long day with a decent walk 
 in and sustained swim sections within the canyon. The guide book does sug
 gest lilos but they are not compulsory. Alternatively\, decent dry bags (i
 .e. not flimsy sea to summit bags) can also work as flotation devices. Thi
 s canyon doesn't have any abseils but in the case that the plan changes\, 
 you may want to bring a back up harness\, descender and safety sling.\n\n8
  spots available.\n\n&nbsp\;
ATTACH;FMTTYPE=image/jpeg:https://unswoc.org/wordpress/wp-content/uploads/
 2015/03/canyonguess.jpg
CATEGORIES:Canyoning
END:VEVENT
END:VCALENDAR