BEGIN:VCALENDAR
VERSION:2.0
PRODID:-//wp-events-plugin.com//7.2.3.1//EN
TZID:Australia/Sydney
X-WR-TIMEZONE:Australia/Sydney
BEGIN:VEVENT
UID:1973@unswoc.org
DTSTART;VALUE=DATE:20160319
DTEND;VALUE=DATE:20160320
DTSTAMP:20160315T035752Z
URL:https://unswoc.org/wordpress/events/boree-log-intermediate-canyoning-s
 aturday-2/
SUMMARY:BOREE LOG - Intermediate Canyoning - Saturday
DESCRIPTION:Intermediate Canyon for Saturday at Boree Log.\n\nI want to be 
 up\, and out of the campsite no later that 8am! So don't get too rowdy on 
 Friday night.\n\nThe plan will be to do Serendipity canyon\, then up upstr
 eam in the Wollangambe until we can climb the gully to do a decent of Wate
 r Dragon canyon. Yes\, that's right\, TWO canyons for the price of ONE! Yo
 u will need a good level of fitness (you will have to climb the hill twice
  in one day\, so I guess it's not totally without a price). I would like t
 o limit the trip to people who have had some abseiling experience.\n\nYou 
 will be able to get the technical gear at Boree Log\, but you will need to
  bring the follow personal gear. If you don't bring any of these things\, 
 you will not be coming!\n\n	Backpack.\n	Water bottle.\n	Sensible\, closed 
 toe shoes that are grippy when wet (eg Dunlop Volleys).\n	Lunch and snacks
  (and a way to keep them dry).\n	Thermals and a rain jacket (for warmth)\n
 \nSee you all next weekend. When you look for me on Saturday Morning\, I a
 m really tall\, and I will be wearing a white legionnaires hat (the type 
 with the flaps).\n\n&nbsp\;\n\n
END:VEVENT
END:VCALENDAR