BEGIN:VCALENDAR
VERSION:2.0
PRODID:-//wp-events-plugin.com//7.2.3.1//EN
TZID:Australia/Sydney
X-WR-TIMEZONE:Australia/Sydney
BEGIN:VEVENT
UID:449@unswoc.org
DTSTART:20140321T203000Z
DTEND:20140322T093000Z
DTSTAMP:20140316T210649Z
URL:https://unswoc.org/wordpress/events/boree-log-intermediate-canyoning-c
 laustral-canyon/
SUMMARY:Intermediate Canyoning - Claustral Canyon 
DESCRIPTION:We will be running a trip down Claustral Canyon on the Saturday
  of Boree Log. It will be a very full day\, it is an intermediate canyon w
 ith a 3 hour walk out so we will only be able to take people who have abse
 iled and canyoned before. We estimate it will take approximately 12 hours 
 car-to-car and will have to control numbers so sign up guys and we will ta
 ke as many as we feel we can based on people's experience. Participants mu
 st have all their own gear - wetsuit\, harness\, belay devices\, backpack\
 , drybag\, helmet (bike helmet is fine)\, headlight torch\, emergency blan
 ket\, thermals (just in case).\n\nWe'll be leaving camp at 7:30am so be re
 ady with bags packed by then!\n\n&nbsp\;\n\n&nbsp\;
CATEGORIES:Boree Log,Canyoning
END:VEVENT
END:VCALENDAR