BEGIN:VCALENDAR
VERSION:2.0
PRODID:-//wp-events-plugin.com//7.2.3.1//EN
TZID:Australia/Sydney
X-WR-TIMEZONE:Australia/Sydney
BEGIN:VEVENT
UID:315@unswoc.org
DTSTART:20131011T200000Z
DTEND:20131012T050000Z
DTSTAMP:20131009T223354Z
URL:https://unswoc.org/wordpress/events/boree-log-intadv-canyon/
SUMMARY:Boree Log - Int/Adv Canyon
DESCRIPTION:Claustral Canyon.\n\nWe already have a group of 5 and are willi
 ng to take two others if they are keen\, experienced and have their own we
 tsuit\, we can provide harnesses and rap racks. But i imagine you would ha
 ve your own if you are crazy enough to join us.\n\nit will be a bit of a m
 ission with the water being quite cold and the longer walkout.\n\nexpect t
 o leave the campsite by 7am on saturday morning and not be back until arou
 nd 3ish.\n\ntrack notes to be found here : http://ozultimate.com/canyonin
 g/track_notes/claustral.htm\n\n&nbsp\;\n\ncall me on 0498000026 if you hav
 e any questions.
END:VEVENT
END:VCALENDAR