BEGIN:VCALENDAR
VERSION:2.0
PRODID:-//wp-events-plugin.com//7.2.3.1//EN
TZID:Australia/Sydney
X-WR-TIMEZONE:Australia/Sydney
BEGIN:VEVENT
UID:461@unswoc.org
DTSTART:20140321T073000Z
DTEND:20140321T103000Z
DTSTAMP:20140316T211748Z
URL:https://unswoc.org/wordpress/events/boree-log-friday-night-canyon/
SUMMARY:Boree Log - Friday Night Canyon
DESCRIPTION:We're planning to take a small group of practiced canyoneers do
 wn Empress on Friday afternoon as I nice (not-so-warm) warm-up for Boree 
 Log. Heading into the canyon around 6:30/7pm\, hoping to make it to camp b
 y 10pm.
CATEGORIES:Boree Log,Canyoning
END:VEVENT
END:VCALENDAR