BEGIN:VCALENDAR
VERSION:2.0
PRODID:-//wp-events-plugin.com//7.2.3.1//EN
TZID:Australia/Sydney
X-WR-TIMEZONE:Australia/Sydney
BEGIN:VEVENT
UID:3350@unswoc.org
DTSTART;TZID=Australia/Sydney:20231013T173000
DTEND;TZID=Australia/Sydney:20231013T220000
DTSTAMP:20231012T081616Z
URL:https://unswoc.org/wordpress/events/boree-log-friday-4-30pm-arc-bus-to
 -kangaroo-valley/
SUMMARY:BOREE LOG - Friday 5.30pm - ARC BUS to Kangaroo Valley
DESCRIPTION:Heyo everyone!\nNext weekend DJ Zee will be piloting the ARC bu
 s (party bus) providing glorious glorious transport to and from Boree Log.
 \n\nThis once in a lifetime voyage will depart from behind the UNSW Gear C
 upboard at 5.30PM on Friday evening and is open to all attendees of Boree 
 Log. Please note\, the bus has limited seats and preference will be given 
 to participants doing activities on the weekend (not just camping). Return
  trips back to Sydney will be organised on the weekend\, based on your Sun
 day trip! I will set up a group chat once passengers are confirmed\n\nThis
  is a beginner friendly trip that will involve sitting\, chatting and pote
 ntially singing (no experience required). There will be no ropework on thi
 s trip\, and is suitable for energetic and enthusiastic passengers of all 
 skill levels. Sign ups are available below\, please bring $10 cash to cont
 ribute for fuel!\n\nYou need to be approved for the main Boree Log event /
  Boree Log Camping event to attend this trip. If you get rejected there wi
 ll be transport alternatives/carpooling (LINK HERE). Please include in the
  comment: your favourite sing-along song (just so we know you have read al
 l of this information).\n\n&nbsp\;\nNOTE Australian Citizens – This trip
  falls on the weekend of the 2023 Australian Indigenous Voice Referendum. 
 If you are an Australian citizen you are required to vote so you must have
  done this beforehand! WE WILL NOT BE TAKING PEOPLE TO FIND VOTING CENTRES
 !\n***Please note this is not an actual trip\, just a booking form for tho
 se who need a lift from UNSW to Kangaroo valley***\n\nLet me know if you h
 ave any questions!\n\nCheers\,\n\nCindy
ATTACH;FMTTYPE=image/jpeg:https://unswoc.org/wordpress/wp-content/uploads/
 2023/10/386870906_286343177552927_1821325034240575681_n.jpg
CATEGORIES:Boree Log,Social Event
LOCATION:https://maps.app.goo.gl/Rhe9AJoo9xc7oXNfA
END:VEVENT
BEGIN:VTIMEZONE
TZID:Australia/Sydney
X-LIC-LOCATION:Australia/Sydney
BEGIN:DAYLIGHT
DTSTART:20231001T030000
TZOFFSETFROM:+1000
TZOFFSETTO:+1100
TZNAME:AEDT
END:DAYLIGHT
END:VTIMEZONE
END:VCALENDAR