BEGIN:VCALENDAR
VERSION:2.0
PRODID:-//wp-events-plugin.com//7.2.3.1//EN
TZID:Australia/Sydney
X-WR-TIMEZONE:Australia/Sydney
BEGIN:VEVENT
UID:2368@unswoc.org
DTSTART:20190322T060000Z
DTEND:20190324T100000Z
DTSTAMP:20190321T010343Z
URL:https://unswoc.org/wordpress/events/boree-log-formal-22-24-march/
SUMMARY:BOREE LOG FORMAL 22-24 March
DESCRIPTION:\nFor those who don’t know\, twice a year UNSWOC packs up all
  its gear and heads to an awesome location for a weekend. If you want to t
 ry climbing\, canyoning or bushwalking\, this is your chance! The way the 
 weekend works is we all carpool out to a campsite on the Friday night. On 
 the Saturday and Sunday everyone splits off into their individual trips an
 d Saturday night is party night!\n\nLocation: Mount Wilson campground (th
 at’s in the Blue Mountains).\n\nWhen: Friday 22nd to Sunday 24th of Mar
 ch\n\nSigning Up:\nIn order to come on Boree Log\, you need to sign up for
  this event. However\, individual trips for the Saturday and Sunday will b
 e posted separately closer to the time. Sign up for a Saturday and Sunday 
 trip only once you have been approved for the Boree Log event. You can onl
 y go on one trip on the Saturday and one on the Sunday\, so don’t sign u
 p to multiple trips on each day.\n\nGetting There:\nYou will need to organ
 ise your own transport. A carpooling event will be set up in the UNSWOC fa
 cebook page. Drivers can post where and when they’re leaving Sydney and 
 how many seats they have (it will keep the cost of driving down). People w
 ho need a lift can then find a seat and message the driver. Passengers wil
 l need to pitch in for fuel (~$10).\n\nFood:\nWe will be having a big form
 al dinner on the Saturday night\, but aside from this you will need to bri
 ng your own food. That’s food for Friday night\, Saturday and Sunday. An
 yone who doesn’t bring food will be having the Punch of Punishment for d
 inner on Saturday night (see below).\n\nWater:\nBring lots. There is none 
 at the campsite.\n\nParty Night:\nDress code = white tie (i.e. formal). Dr
 ess to impress\, you never know who you might meet at Boree Log. Best dres
 sed gets an outdoor store gift voucher. It’s BYO\, but as usual we will 
 have the Punch of Punishment for people who have done something silly on a
  club trip in the last year. Fine your friends here!\n\nGear:\nSee the Bor
 ee Log Packing List.\nHere is a short important list:\n\n 	Sleeping Bag*\n
  	Sleeping Mat*\n 	Tent*\n 	Headtorch\n 	Cutlery and bowl\n 	Your own food
 /water\n 	Warm clothes The Blue Mountains are colder than Sydney\, please 
 come prepared CHECK THE WEATHER!\n 	Money for fuel\n\n*The club has a VERY
  limited supply of these. To avoid disappointment and freezing\, it's best
  to bring your own.\n\nTrip specific gear can be borrowed from the club at
  the event - but if you have a personal harness\, helmet\, etc. please bri
 ng it because club supplies are limited.\n\nAny More Questions?\nHere is a
  good FAQ\nHere is a good summary of what Boree Log is about.\nStill have
  questions? Contact a member of the exec or post in the FB event.
ATTACH;FMTTYPE=image/jpeg:https://unswoc.org/wordpress/wp-content/uploads/
 2019/03/WIN_20190309_15_59_33_Pro.jpg
CATEGORIES:Boree Log
END:VEVENT
END:VCALENDAR