BEGIN:VCALENDAR
VERSION:2.0
PRODID:-//wp-events-plugin.com//7.2.3.1//EN
TZID:Australia/Sydney
X-WR-TIMEZONE:Australia/Sydney
BEGIN:VEVENT
UID:313@unswoc.org
DTSTART;VALUE=DATE:20131012
DTEND;VALUE=DATE:20131013
DTSTAMP:20131003T134144Z
URL:https://unswoc.org/wordpress/events/boree-log-canyoning-serendipity/
SUMMARY:Boree Log Canyoning - Serendipity
DESCRIPTION:Also known as "Why Don't We Do It In The Road" canyon.\n\nThis 
 canyon involves abseiling\, jumping down into water\, and swimming. You w
 ill be cold and wet pretty much constantly. It's going to be awesome.\n\nA
 s with the other canyoning trips happening for Boree Log\, we'll be leavin
 g as early as possible Saturday morning\, and abseiling experience is not 
 necessary.\n\nGear Required:\n\n	Sturdy enclosed shoes\n	Socks (not cotton
 )\n	Thermals/Wetsuit. You need to be able to spend time in cold water with
 out getting hypothermia\, as this is frowned upon. The club has some wetsu
 its\, but bring your own if you have it. Spare thermals on the day are ver
 y rare\, don't count on being able to borrow some.\n	Harness and belay dev
 ice. The club has some\, but bring your own if you have them\n	Helmet. A b
 ike helmet is sufficient.\n	2L of drinking water\n	Lunch\n	A backpack (aga
 in\, will get wet and dirty)\n\nIf you'd like to know more about the canyo
 n:\n\nhttp://ozultimate.com/canyoning/track_notes/why_dont_we_do_it_in_the
 _road.htm\n\nOr just message me on Facebook\n\nBlair Harkness
CATEGORIES:Boree Log,Canyoning
LOCATION:Mount Wilson\, \, 
GEO:0.000000;0.000000
X-APPLE-STRUCTURED-LOCATION;VALUE=URI;X-ADDRESS=\, ;X-APPLE-RADIUS=100;X-TI
 TLE=Mount Wilson:geo:0.000000,0.000000
END:VEVENT
END:VCALENDAR