BEGIN:VCALENDAR
VERSION:2.0
PRODID:-//wp-events-plugin.com//7.2.3.1//EN
TZID:Australia/Sydney
X-WR-TIMEZONE:Australia/Sydney
BEGIN:VEVENT
UID:2239@unswoc.org
DTSTART;VALUE=DATE:20180316
DTEND;VALUE=DATE:20180319
DTSTAMP:20180313T210919Z
URL:https://unswoc.org/wordpress/events/boree-log-camping-march-16-18/
SUMMARY:Boree Log CAMPING ONLY - March 16-18
DESCRIPTION:We can only open a limited number of trip attendee spots for Bo
 ree Log because we only have a limited number of trip leaders :(\n\nBUT...
 ...if you're keen to come up anyway and chill at the campsite\, meet new p
 eople and join in on the fun on Saturday night\, you're welcome to come al
 ong! :) Only caveat is that unless other people don't show up to their BL 
 trips\, you won't be able to come on trips this time (sorry)\n\nIf that's 
 you\, sign up for this trip so we know how many people are coming along to
  camp
CATEGORIES:Boree Log
END:VEVENT
END:VCALENDAR